Workbook

Sheet Current Month Report
A1: ='Current month raw data'!A1 -> September 2026 Monthly Report | B1: ='Current month raw data'!F6 -> Current Month - September 2026 vs September 2025
B2: Occupancy | D2: ADR | F2: RevPAR | H2: ='Current month raw data'!L7 -> Percent Change from September 2025
B3: ='Current month raw data'!F8 -> 2026 | C3: ='Current month raw data'!G8 -> 2025 | D3: ='Current month raw data'!H8 -> 2026 | E3: ='Current month raw data'!I8 -> 2025 | F3: ='Current month raw data'!J8 -> 2026 | G3: ='Current month raw data'!K8 -> 2025 | H3: ='Current month raw data'!L8 -> Occ | I3: ='Current month raw data'!M8 -> ADR | J3: RevPAR | K3: Room Revenue | L3: Room Supply | M3: Room Demand
A4: United States | B4: =VLOOKUP($A4,'Current month raw data'!$B:$Q,5,FALSE) -> 66.866634 | C4: =VLOOKUP($A4,'Current month raw data'!$B:$Q,6,FALSE) -> 63.41398 | D4: =VLOOKUP($A4,'Current month raw data'!$B:$Q,7,FALSE) -> 171.68612 | E4: =VLOOKUP($A4,'Current month raw data'!$B:$Q,8,FALSE) -> 163.09067 | F4: =VLOOKUP($A4,'Current month raw data'!$B:$Q,9,FALSE) -> 114.80073 | G4: =VLOOKUP($A4,'Current month raw data'!$B:$Q,10,FALSE) -> 103.42228 | H4: =VLOOKUP($A4,'Current month raw data'!$B:$Q,11,FALSE) -> 5.4446253 | I4: =VLOOKUP($A4,'Current month raw data'!$B:$Q,12,FALSE) -> 5.2703499 | J4: =VLOOKUP($A4,'Current month raw data'!$B:$Q,13,FALSE) -> 11.001926 | K4: =VLOOKUP($A4,'Current month raw data'!$B:$Q,14,FALSE) -> 11.36225 | L4: =VLOOKUP($A4,'Current month raw data'!$B:$Q,15,FALSE) -> 0.32461025 | M4: =VLOOKUP($A4,'Current month raw data'!$B:$Q,16,FALSE) -> 5.7869093
A5: Virginia | B5: =VLOOKUP($A5,'Current month raw data'!$B:$Q,5,FALSE) -> 67.826199 | C5: =VLOOKUP($A5,'Current month raw data'!$B:$Q,6,FALSE) -> 63.791966 | D5: =VLOOKUP($A5,'Current month raw data'!$B:$Q,7,FALSE) -> 145.468 | E5: =VLOOKUP($A5,'Current month raw data'!$B:$Q,8,FALSE) -> 138.50112 | F5: =VLOOKUP($A5,'Current month raw data'!$B:$Q,9,FALSE) -> 98.665415 | G5: =VLOOKUP($A5,'Current month raw data'!$B:$Q,10,FALSE) -> 88.352589 | H5: =VLOOKUP($A5,'Current month raw data'!$B:$Q,11,FALSE) -> 6.3240461 | I5: =VLOOKUP($A5,'Current month raw data'!$B:$Q,12,FALSE) -> 5.0301953 | J5: =VLOOKUP($A5,'Current month raw data'!$B:$Q,13,FALSE) -> 11.672353 | K5: =VLOOKUP($A5,'Current month raw data'!$B:$Q,14,FALSE) -> 12.058734 | L5: =VLOOKUP($A5,'Current month raw data'!$B:$Q,15,FALSE) -> 0.34599533 | M5: =VLOOKUP($A5,'Current month raw data'!$B:$Q,16,FALSE) -> 6.6919223
A7: Virginia Class Scales
A8: Luxury | B8: =VLOOKUP($A8,'Current month raw data'!$B:$Q,5,FALSE) -> 70.571884 | C8: =VLOOKUP($A8,'Current month raw data'!$B:$Q,6,FALSE) -> 61.063524 | D8: =VLOOKUP($A8,'Current month raw data'!$B:$Q,7,FALSE) -> 359.92001 | E8: =VLOOKUP($A8,'Current month raw data'!$B:$Q,8,FALSE) -> 340.93259 | F8: =VLOOKUP($A8,'Current month raw data'!$B:$Q,9,FALSE) -> 254.00233 | G8: =VLOOKUP($A8,'Current month raw data'!$B:$Q,10,FALSE) -> 208.18546 | H8: =VLOOKUP($A8,'Current month raw data'!$B:$Q,11,FALSE) -> 15.571259 | I8: =VLOOKUP($A8,'Current month raw data'!$B:$Q,12,FALSE) -> 5.569257 | J8: =VLOOKUP($A8,'Current month raw data'!$B:$Q,13,FALSE) -> 22.00772 | K8: =VLOOKUP($A8,'Current month raw data'!$B:$Q,14,FALSE) -> 21.344184 | L8: =VLOOKUP($A8,'Current month raw data'!$B:$Q,15,FALSE) -> -0.54384772 | M8: =VLOOKUP($A8,'Current month raw data'!$B:$Q,16,FALSE) -> 14.942728
A9: Upper Upscale | B9: =VLOOKUP($A9,'Current month raw data'!$B:$Q,5,FALSE) -> 73.3351 | C9: =VLOOKUP($A9,'Current month raw data'!$B:$Q,6,FALSE) -> 67.932585 | D9: =VLOOKUP($A9,'Current month raw data'!$B:$Q,7,FALSE) -> 216.12576 | E9: =VLOOKUP($A9,'Current month raw data'!$B:$Q,8,FALSE) -> 206.38323 | F9: =VLOOKUP($A9,'Current month raw data'!$B:$Q,9,FALSE) -> 158.49604 | G9: =VLOOKUP($A9,'Current month raw data'!$B:$Q,10,FALSE) -> 140.20146 | H9: =VLOOKUP($A9,'Current month raw data'!$B:$Q,11,FALSE) -> 7.9527595 | I9: =VLOOKUP($A9,'Current month raw data'!$B:$Q,12,FALSE) -> 4.7206048 | J9: =VLOOKUP($A9,'Current month raw data'!$B:$Q,13,FALSE) -> 13.048783 | K9: =VLOOKUP($A9,'Current month raw data'!$B:$Q,14,FALSE) -> 14.106887 | L9: =VLOOKUP($A9,'Current month raw data'!$B:$Q,15,FALSE) -> 0.93597188 | M9: =VLOOKUP($A9,'Current month raw data'!$B:$Q,16,FALSE) -> 8.9631669
A10: Upscale | B10: =VLOOKUP($A10,'Current month raw data'!$B:$Q,5,FALSE) -> 73.317812 | C10: =VLOOKUP($A10,'Current month raw data'!$B:$Q,6,FALSE) -> 69.50143 | D10: =VLOOKUP($A10,'Current month raw data'!$B:$Q,7,FALSE) -> 166.17257 | E10: =VLOOKUP($A10,'Current month raw data'!$B:$Q,8,FALSE) -> 158.03163 | F10: =VLOOKUP($A10,'Current month raw data'!$B:$Q,9,FALSE) -> 121.8341 | G10: =VLOOKUP($A10,'Current month raw data'!$B:$Q,10,FALSE) -> 109.83424 | H10: =VLOOKUP($A10,'Current month raw data'!$B:$Q,11,FALSE) -> 5.4910838 | I10: =VLOOKUP($A10,'Current month raw data'!$B:$Q,12,FALSE) -> 5.1514683 | J10: =VLOOKUP($A10,'Current month raw data'!$B:$Q,13,FALSE) -> 10.925424 | K10: =VLOOKUP($A10,'Current month raw data'!$B:$Q,14,FALSE) -> 12.231947 | L10: =VLOOKUP($A10,'Current month raw data'!$B:$Q,15,FALSE) -> 1.1778392 | M10: =VLOOKUP($A10,'Current month raw data'!$B:$Q,16,FALSE) -> 6.7335991
A11: Upper Midscale | B11: =VLOOKUP($A11,'Current month raw data'!$B:$Q,5,FALSE) -> 70.108026 | C11: =VLOOKUP($A11,'Current month raw data'!$B:$Q,6,FALSE) -> 66.63868 | D11: =VLOOKUP($A11,'Current month raw data'!$B:$Q,7,FALSE) -> 132.69534 | E11: =VLOOKUP($A11,'Current month raw data'!$B:$Q,8,FALSE) -> 128.47126 | F11: =VLOOKUP($A11,'Current month raw data'!$B:$Q,9,FALSE) -> 93.030085 | G11: =VLOOKUP($A11,'Current month raw data'!$B:$Q,10,FALSE) -> 85.611554 | H11: =VLOOKUP($A11,'Current month raw data'!$B:$Q,11,FALSE) -> 5.2062043 | I11: =VLOOKUP($A11,'Current month raw data'!$B:$Q,12,FALSE) -> 3.2879557 | J11: =VLOOKUP($A11,'Current month raw data'!$B:$Q,13,FALSE) -> 8.6653377 | K11: =VLOOKUP($A11,'Current month raw data'!$B:$Q,14,FALSE) -> 8.855742 | L11: =VLOOKUP($A11,'Current month raw data'!$B:$Q,15,FALSE) -> 0.17522085 | M11: =VLOOKUP($A11,'Current month raw data'!$B:$Q,16,FALSE) -> 5.3905475
A12: Midscale | B12: =VLOOKUP($A12,'Current month raw data'!$B:$Q,5,FALSE) -> 64.124244 | C12: =VLOOKUP($A12,'Current month raw data'!$B:$Q,6,FALSE) -> 60.037015 | D12: =VLOOKUP($A12,'Current month raw data'!$B:$Q,7,FALSE) -> 95.956131 | E12: =VLOOKUP($A12,'Current month raw data'!$B:$Q,8,FALSE) -> 92.286098 | F12: =VLOOKUP($A12,'Current month raw data'!$B:$Q,9,FALSE) -> 61.531144 | G12: =VLOOKUP($A12,'Current month raw data'!$B:$Q,10,FALSE) -> 55.405818 | H12: =VLOOKUP($A12,'Current month raw data'!$B:$Q,11,FALSE) -> 6.8078481 | I12: =VLOOKUP($A12,'Current month raw data'!$B:$Q,12,FALSE) -> 3.9768002 | J12: =VLOOKUP($A12,'Current month raw data'!$B:$Q,13,FALSE) -> 11.055383 | K12: =VLOOKUP($A12,'Current month raw data'!$B:$Q,14,FALSE) -> 11.784957 | L12: =VLOOKUP($A12,'Current month raw data'!$B:$Q,15,FALSE) -> 0.65694668 | M12: =VLOOKUP($A12,'Current month raw data'!$B:$Q,16,FALSE) -> 7.5095187
A13: Economy | B13: =VLOOKUP($A13,'Current month raw data'!$B:$Q,5,FALSE) -> 57.191604 | C13: =VLOOKUP($A13,'Current month raw data'!$B:$Q,6,FALSE) -> 54.247874 | D13: =VLOOKUP($A13,'Current month raw data'!$B:$Q,7,FALSE) -> 70.032789 | E13: =VLOOKUP($A13,'Current month raw data'!$B:$Q,8,FALSE) -> 67.80601 | F13: =VLOOKUP($A13,'Current month raw data'!$B:$Q,9,FALSE) -> 40.052875 | G13: =VLOOKUP($A13,'Current month raw data'!$B:$Q,10,FALSE) -> 36.783319 | H13: =VLOOKUP($A13,'Current month raw data'!$B:$Q,11,FALSE) -> 5.4264426 | I13: =VLOOKUP($A13,'Current month raw data'!$B:$Q,12,FALSE) -> 3.2840429 | J13: =VLOOKUP($A13,'Current month raw data'!$B:$Q,13,FALSE) -> 8.8886922 | K13: =VLOOKUP($A13,'Current month raw data'!$B:$Q,14,FALSE) -> 7.9564149 | L13: =VLOOKUP($A13,'Current month raw data'!$B:$Q,15,FALSE) -> -0.85617456 | M13: =VLOOKUP($A13,'Current month raw data'!$B:$Q,16,FALSE) -> 4.5238082
A14: VTC Defined Tourism Regions
A15: Central Virginia | B15: =VLOOKUP($A15,'Current month raw data'!$B:$Q,5,FALSE) -> 65.830096 | C15: =VLOOKUP($A15,'Current month raw data'!$B:$Q,6,FALSE) -> 64.269746 | D15: =VLOOKUP($A15,'Current month raw data'!$B:$Q,7,FALSE) -> 131.70141 | E15: =VLOOKUP($A15,'Current month raw data'!$B:$Q,8,FALSE) -> 128.21091 | F15: =VLOOKUP($A15,'Current month raw data'!$B:$Q,9,FALSE) -> 86.699164 | G15: =VLOOKUP($A15,'Current month raw data'!$B:$Q,10,FALSE) -> 82.400829 | H15: =VLOOKUP($A15,'Current month raw data'!$B:$Q,11,FALSE) -> 2.4278143 | I15: =VLOOKUP($A15,'Current month raw data'!$B:$Q,12,FALSE) -> 2.7224619 | J15: =VLOOKUP($A15,'Current month raw data'!$B:$Q,13,FALSE) -> 5.2163725 | K15: =VLOOKUP($A15,'Current month raw data'!$B:$Q,14,FALSE) -> 7.2361229 | L15: =VLOOKUP($A15,'Current month raw data'!$B:$Q,15,FALSE) -> 1.9196161 | M15: =VLOOKUP($A15,'Current month raw data'!$B:$Q,16,FALSE) -> 4.3940351
A16: Chesapeake Bay | B16: =VLOOKUP($A16,'Current month raw data'!$B:$Q,5,FALSE) -> 60.622794 | C16: =VLOOKUP($A16,'Current month raw data'!$B:$Q,6,FALSE) -> 58.714465 | D16: =VLOOKUP($A16,'Current month raw data'!$B:$Q,7,FALSE) -> 128.26474 | E16: =VLOOKUP($A16,'Current month raw data'!$B:$Q,8,FALSE) -> 124.80946 | F16: =VLOOKUP($A16,'Current month raw data'!$B:$Q,9,FALSE) -> 77.75767 | G16: =VLOOKUP($A16,'Current month raw data'!$B:$Q,10,FALSE) -> 73.281208 | H16: =VLOOKUP($A16,'Current month raw data'!$B:$Q,11,FALSE) -> 3.2501843 | I16: =VLOOKUP($A16,'Current month raw data'!$B:$Q,12,FALSE) -> 2.7684447 | J16: =VLOOKUP($A16,'Current month raw data'!$B:$Q,13,FALSE) -> 6.1086085 | K16: =VLOOKUP($A16,'Current month raw data'!$B:$Q,14,FALSE) -> 5.8683626 | L16: =VLOOKUP($A16,'Current month raw data'!$B:$Q,15,FALSE) -> -0.22641509 | M16: =VLOOKUP($A16,'Current month raw data'!$B:$Q,16,FALSE) -> 3.0164103
A17: Coastal Virginia - Eastern Shore | B17: =VLOOKUP($A17,'Current month raw data'!$B:$Q,5,FALSE) -> 56.065394 | C17: =VLOOKUP($A17,'Current month raw data'!$B:$Q,6,FALSE) -> 60.886548 | D17: =VLOOKUP($A17,'Current month raw data'!$B:$Q,7,FALSE) -> 130.83425 | E17: =VLOOKUP($A17,'Current month raw data'!$B:$Q,8,FALSE) -> 126.32918 | F17: =VLOOKUP($A17,'Current month raw data'!$B:$Q,9,FALSE) -> 73.352738 | G17: =VLOOKUP($A17,'Current month raw data'!$B:$Q,10,FALSE) -> 76.917477 | H17: =VLOOKUP($A17,'Current month raw data'!$B:$Q,11,FALSE) -> -7.9182585 | I17: =VLOOKUP($A17,'Current month raw data'!$B:$Q,12,FALSE) -> 3.5661362 | J17: =VLOOKUP($A17,'Current month raw data'!$B:$Q,13,FALSE) -> -4.6344982 | K17: =VLOOKUP($A17,'Current month raw data'!$B:$Q,14,FALSE) -> -4.6344982 | L17: =VLOOKUP($A17,'Current month raw data'!$B:$Q,15,FALSE) -> 0 | M17: =VLOOKUP($A17,'Current month raw data'!$B:$Q,16,FALSE) -> -7.9182585
A18: Coastal Virginia - Hampton Roads | B18: =VLOOKUP($A18,'Current month raw data'!$B:$Q,5,FALSE) -> 68.604453 | C18: =VLOOKUP($A18,'Current month raw data'!$B:$Q,6,FALSE) -> 63.405719 | D18: =VLOOKUP($A18,'Current month raw data'!$B:$Q,7,FALSE) -> 137.182 | E18: =VLOOKUP($A18,'Current month raw data'!$B:$Q,8,FALSE) -> 126.03076 | F18: =VLOOKUP($A18,'Current month raw data'!$B:$Q,9,FALSE) -> 94.11296 | G18: =VLOOKUP($A18,'Current month raw data'!$B:$Q,10,FALSE) -> 79.91071 | H18: =VLOOKUP($A18,'Current month raw data'!$B:$Q,11,FALSE) -> 8.1991559 | I18: =VLOOKUP($A18,'Current month raw data'!$B:$Q,12,FALSE) -> 8.8480293 | J18: =VLOOKUP($A18,'Current month raw data'!$B:$Q,13,FALSE) -> 17.772649 | K18: =VLOOKUP($A18,'Current month raw data'!$B:$Q,14,FALSE) -> 18.035346 | L18: =VLOOKUP($A18,'Current month raw data'!$B:$Q,15,FALSE) -> 0.22305405 | M18: =VLOOKUP($A18,'Current month raw data'!$B:$Q,16,FALSE) -> 8.4404985
A19: Northern Virginia | B19: =VLOOKUP($A19,'Current month raw data'!$B:$Q,5,FALSE) -> 73.624262 | C19: =VLOOKUP($A19,'Current month raw data'!$B:$Q,6,FALSE) -> 67.746527 | D19: =VLOOKUP($A19,'Current month raw data'!$B:$Q,7,FALSE) -> 170.79345 | E19: =VLOOKUP($A19,'Current month raw data'!$B:$Q,8,FALSE) -> 159.10961 | F19: =VLOOKUP($A19,'Current month raw data'!$B:$Q,9,FALSE) -> 125.74542 | G19: =VLOOKUP($A19,'Current month raw data'!$B:$Q,10,FALSE) -> 107.79124 | H19: =VLOOKUP($A19,'Current month raw data'!$B:$Q,11,FALSE) -> 8.6760692 | I19: =VLOOKUP($A19,'Current month raw data'!$B:$Q,12,FALSE) -> 7.3432609 | J19: =VLOOKUP($A19,'Current month raw data'!$B:$Q,13,FALSE) -> 16.656436 | K19: =VLOOKUP($A19,'Current month raw data'!$B:$Q,14,FALSE) -> 15.440428 | L19: =VLOOKUP($A19,'Current month raw data'!$B:$Q,15,FALSE) -> -1.0423841 | M19: =VLOOKUP($A19,'Current month raw data'!$B:$Q,16,FALSE) -> 7.5432471
A20: Shenandoah Valley | B20: =VLOOKUP($A20,'Current month raw data'!$B:$Q,5,FALSE) -> 59.348989 | C20: =VLOOKUP($A20,'Current month raw data'!$B:$Q,6,FALSE) -> 58.877872 | D20: =VLOOKUP($A20,'Current month raw data'!$B:$Q,7,FALSE) -> 112.32875 | E20: =VLOOKUP($A20,'Current month raw data'!$B:$Q,8,FALSE) -> 116.5474 | F20: =VLOOKUP($A20,'Current month raw data'!$B:$Q,9,FALSE) -> 66.665976 | G20: =VLOOKUP($A20,'Current month raw data'!$B:$Q,10,FALSE) -> 68.620631 | H20: =VLOOKUP($A20,'Current month raw data'!$B:$Q,11,FALSE) -> 0.80016037 | I20: =VLOOKUP($A20,'Current month raw data'!$B:$Q,12,FALSE) -> -3.6196913 | J20: =VLOOKUP($A20,'Current month raw data'!$B:$Q,13,FALSE) -> -2.8484943 | K20: =VLOOKUP($A20,'Current month raw data'!$B:$Q,14,FALSE) -> -0.95323715 | L20: =VLOOKUP($A20,'Current month raw data'!$B:$Q,15,FALSE) -> 1.9508263 | M20: =VLOOKUP($A20,'Current month raw data'!$B:$Q,16,FALSE) -> 2.7665964
A21: Southern Virginia | B21: =VLOOKUP($A21,'Current month raw data'!$B:$Q,5,FALSE) -> 61.815855 | C21: =VLOOKUP($A21,'Current month raw data'!$B:$Q,6,FALSE) -> 58.460898 | D21: =VLOOKUP($A21,'Current month raw data'!$B:$Q,7,FALSE) -> 115.26772 | E21: =VLOOKUP($A21,'Current month raw data'!$B:$Q,8,FALSE) -> 114.77763 | F21: =VLOOKUP($A21,'Current month raw data'!$B:$Q,9,FALSE) -> 71.253728 | G21: =VLOOKUP($A21,'Current month raw data'!$B:$Q,10,FALSE) -> 67.100032 | H21: =VLOOKUP($A21,'Current month raw data'!$B:$Q,11,FALSE) -> 5.7388052 | I21: =VLOOKUP($A21,'Current month raw data'!$B:$Q,12,FALSE) -> 0.42699516 | J21: =VLOOKUP($A21,'Current month raw data'!$B:$Q,13,FALSE) -> 6.1903048 | K21: =VLOOKUP($A21,'Current month raw data'!$B:$Q,14,FALSE) -> 9.9285508 | L21: =VLOOKUP($A21,'Current month raw data'!$B:$Q,15,FALSE) -> 3.520327 | M21: =VLOOKUP($A21,'Current month raw data'!$B:$Q,16,FALSE) -> 9.4611569
A22: Southwest Virginia - Blue Ridge Highlands | B22: =VLOOKUP($A22,'Current month raw data'!$B:$Q,5,FALSE) -> 60.710488 | C22: =VLOOKUP($A22,'Current month raw data'!$B:$Q,6,FALSE) -> 56.78805 | D22: =VLOOKUP($A22,'Current month raw data'!$B:$Q,7,FALSE) -> 141.11852 | E22: =VLOOKUP($A22,'Current month raw data'!$B:$Q,8,FALSE) -> 151.20131 | F22: =VLOOKUP($A22,'Current month raw data'!$B:$Q,9,FALSE) -> 85.673739 | G22: =VLOOKUP($A22,'Current month raw data'!$B:$Q,10,FALSE) -> 85.864277 | H22: =VLOOKUP($A22,'Current month raw data'!$B:$Q,11,FALSE) -> 6.9071539 | I22: =VLOOKUP($A22,'Current month raw data'!$B:$Q,12,FALSE) -> -6.6684584 | J22: =VLOOKUP($A22,'Current month raw data'!$B:$Q,13,FALSE) -> -0.22190515 | K22: =VLOOKUP($A22,'Current month raw data'!$B:$Q,14,FALSE) -> -0.57062228 | L22: =VLOOKUP($A22,'Current month raw data'!$B:$Q,15,FALSE) -> -0.34949267 | M22: =VLOOKUP($A22,'Current month raw data'!$B:$Q,16,FALSE) -> 6.5335213
A23: Southwest Virginia - Heart of Appalachia | B23: =VLOOKUP($A23,'Current month raw data'!$B:$Q,5,FALSE) -> 52.43106 | C23: =VLOOKUP($A23,'Current month raw data'!$B:$Q,6,FALSE) -> 51.192788 | D23: =VLOOKUP($A23,'Current month raw data'!$B:$Q,7,FALSE) -> 99.469652 | E23: =VLOOKUP($A23,'Current month raw data'!$B:$Q,8,FALSE) -> 98.401631 | F23: =VLOOKUP($A23,'Current month raw data'!$B:$Q,9,FALSE) -> 52.152992 | G23: =VLOOKUP($A23,'Current month raw data'!$B:$Q,10,FALSE) -> 50.374538 | H23: =VLOOKUP($A23,'Current month raw data'!$B:$Q,11,FALSE) -> 2.4188402 | I23: =VLOOKUP($A23,'Current month raw data'!$B:$Q,12,FALSE) -> 1.0853693 | J23: =VLOOKUP($A23,'Current month raw data'!$B:$Q,13,FALSE) -> 3.5304629 | K23: =VLOOKUP($A23,'Current month raw data'!$B:$Q,14,FALSE) -> -1.0645091 | L23: =VLOOKUP($A23,'Current month raw data'!$B:$Q,15,FALSE) -> -4.4382802 | M23: =VLOOKUP($A23,'Current month raw data'!$B:$Q,16,FALSE) -> -2.1267949
A24: Virginia Mountains | B24: =VLOOKUP($A24,'Current month raw data'!$B:$Q,5,FALSE) -> 64.750396 | C24: =VLOOKUP($A24,'Current month raw data'!$B:$Q,6,FALSE) -> 58.742138 | D24: =VLOOKUP($A24,'Current month raw data'!$B:$Q,7,FALSE) -> 134.09074 | E24: =VLOOKUP($A24,'Current month raw data'!$B:$Q,8,FALSE) -> 133.57722 | F24: =VLOOKUP($A24,'Current month raw data'!$B:$Q,9,FALSE) -> 86.824287 | G24: =VLOOKUP($A24,'Current month raw data'!$B:$Q,10,FALSE) -> 78.466115 | H24: =VLOOKUP($A24,'Current month raw data'!$B:$Q,11,FALSE) -> 10.228191 | I24: =VLOOKUP($A24,'Current month raw data'!$B:$Q,12,FALSE) -> 0.3844385 | J24: =VLOOKUP($A24,'Current month raw data'!$B:$Q,13,FALSE) -> 10.65195 | K24: =VLOOKUP($A24,'Current month raw data'!$B:$Q,14,FALSE) -> 12.117833 | L24: =VLOOKUP($A24,'Current month raw data'!$B:$Q,15,FALSE) -> 1.3247692 | M24: =VLOOKUP($A24,'Current month raw data'!$B:$Q,16,FALSE) -> 11.68846
A25: STR/CoSTAR Designated Hospitality Markets
A26: Washington, DC | B26: =VLOOKUP($A26,'Current month raw data'!$B:$Q,5,FALSE) -> 73.281303 | C26: =VLOOKUP($A26,'Current month raw data'!$B:$Q,6,FALSE) -> 66.859588 | D26: =VLOOKUP($A26,'Current month raw data'!$B:$Q,7,FALSE) -> 209.01824 | E26: =VLOOKUP($A26,'Current month raw data'!$B:$Q,8,FALSE) -> 194.02272 | F26: =VLOOKUP($A26,'Current month raw data'!$B:$Q,9,FALSE) -> 153.17129 | G26: =VLOOKUP($A26,'Current month raw data'!$B:$Q,10,FALSE) -> 129.72279 | H26: =VLOOKUP($A26,'Current month raw data'!$B:$Q,11,FALSE) -> 9.6047774 | I26: =VLOOKUP($A26,'Current month raw data'!$B:$Q,12,FALSE) -> 7.7287458 | J26: =VLOOKUP($A26,'Current month raw data'!$B:$Q,13,FALSE) -> 18.075852 | K26: =VLOOKUP($A26,'Current month raw data'!$B:$Q,14,FALSE) -> 18.085145 | L26: =VLOOKUP($A26,'Current month raw data'!$B:$Q,15,FALSE) -> 0.0078707793 | M26: =VLOOKUP($A26,'Current month raw data'!$B:$Q,16,FALSE) -> 9.6134042
A27: Arlington, VA | B27: =VLOOKUP($A27,'Current month raw data'!$B:$Q,5,FALSE) -> 73.746723 | C27: =VLOOKUP($A27,'Current month raw data'!$B:$Q,6,FALSE) -> 69.277285 | D27: =VLOOKUP($A27,'Current month raw data'!$B:$Q,7,FALSE) -> 232.84526 | E27: =VLOOKUP($A27,'Current month raw data'!$B:$Q,8,FALSE) -> 212.02751 | F27: =VLOOKUP($A27,'Current month raw data'!$B:$Q,9,FALSE) -> 171.71575 | G27: =VLOOKUP($A27,'Current month raw data'!$B:$Q,10,FALSE) -> 146.8869 | H27: =VLOOKUP($A27,'Current month raw data'!$B:$Q,11,FALSE) -> 6.4515203 | I27: =VLOOKUP($A27,'Current month raw data'!$B:$Q,12,FALSE) -> 9.8184196 | J27: =VLOOKUP($A27,'Current month raw data'!$B:$Q,13,FALSE) -> 16.903377 | K27: =VLOOKUP($A27,'Current month raw data'!$B:$Q,14,FALSE) -> 10.700974 | L27: =VLOOKUP($A27,'Current month raw data'!$B:$Q,15,FALSE) -> -5.3055811 | M27: =VLOOKUP($A27,'Current month raw data'!$B:$Q,16,FALSE) -> 0.80364857
A28: Alexandria, VA | B28: =VLOOKUP($A28,'Current month raw data'!$B:$Q,5,FALSE) -> 72.898988 | C28: =VLOOKUP($A28,'Current month raw data'!$B:$Q,6,FALSE) -> 66.465057 | D28: =VLOOKUP($A28,'Current month raw data'!$B:$Q,7,FALSE) -> 175.286 | E28: =VLOOKUP($A28,'Current month raw data'!$B:$Q,8,FALSE) -> 163.27295 | F28: =VLOOKUP($A28,'Current month raw data'!$B:$Q,9,FALSE) -> 127.78172 | G28: =VLOOKUP($A28,'Current month raw data'!$B:$Q,10,FALSE) -> 108.51946 | H28: =VLOOKUP($A28,'Current month raw data'!$B:$Q,11,FALSE) -> 9.6801703 | I28: =VLOOKUP($A28,'Current month raw data'!$B:$Q,12,FALSE) -> 7.357652 | J28: =VLOOKUP($A28,'Current month raw data'!$B:$Q,13,FALSE) -> 17.750055 | K28: =VLOOKUP($A28,'Current month raw data'!$B:$Q,14,FALSE) -> 17.914091 | L28: =VLOOKUP($A28,'Current month raw data'!$B:$Q,15,FALSE) -> 0.1393081 | M28: =VLOOKUP($A28,'Current month raw data'!$B:$Q,16,FALSE) -> 9.8329636
A29: Fairfax/Tysons Corner, VA | B29: =VLOOKUP($A29,'Current month raw data'!$B:$Q,5,FALSE) -> 73.753997 | C29: =VLOOKUP($A29,'Current month raw data'!$B:$Q,6,FALSE) -> 70.260025 | D29: =VLOOKUP($A29,'Current month raw data'!$B:$Q,7,FALSE) -> 183.2267 | E29: =VLOOKUP($A29,'Current month raw data'!$B:$Q,8,FALSE) -> 171.32439 | F29: =VLOOKUP($A29,'Current month raw data'!$B:$Q,9,FALSE) -> 135.13701 | G29: =VLOOKUP($A29,'Current month raw data'!$B:$Q,10,FALSE) -> 120.37256 | H29: =VLOOKUP($A29,'Current month raw data'!$B:$Q,11,FALSE) -> 4.9729149 | I29: =VLOOKUP($A29,'Current month raw data'!$B:$Q,12,FALSE) -> 6.9472397 | J29: =VLOOKUP($A29,'Current month raw data'!$B:$Q,13,FALSE) -> 12.265635 | K29: =VLOOKUP($A29,'Current month raw data'!$B:$Q,14,FALSE) -> 12.265635 | L29: =VLOOKUP($A29,'Current month raw data'!$B:$Q,15,FALSE) -> 0 | M29: =VLOOKUP($A29,'Current month raw data'!$B:$Q,16,FALSE) -> 4.9729149
A30: Suburban Virginia Area | B30: =VLOOKUP($A30,'Current month raw data'!$B:$Q,5,FALSE) -> 74.002391 | C30: =VLOOKUP($A30,'Current month raw data'!$B:$Q,6,FALSE) -> 68.15634 | D30: =VLOOKUP($A30,'Current month raw data'!$B:$Q,7,FALSE) -> 176.13061 | E30: =VLOOKUP($A30,'Current month raw data'!$B:$Q,8,FALSE) -> 162.6393 | F30: =VLOOKUP($A30,'Current month raw data'!$B:$Q,9,FALSE) -> 130.34086 | G30: =VLOOKUP($A30,'Current month raw data'!$B:$Q,10,FALSE) -> 110.84899 | H30: =VLOOKUP($A30,'Current month raw data'!$B:$Q,11,FALSE) -> 8.5774143 | I30: =VLOOKUP($A30,'Current month raw data'!$B:$Q,12,FALSE) -> 8.2952325 | J30: =VLOOKUP($A30,'Current month raw data'!$B:$Q,13,FALSE) -> 17.584163 | K30: =VLOOKUP($A30,'Current month raw data'!$B:$Q,14,FALSE) -> 17.278204 | L30: =VLOOKUP($A30,'Current month raw data'!$B:$Q,15,FALSE) -> -0.26020491 | M30: =VLOOKUP($A30,'Current month raw data'!$B:$Q,16,FALSE) -> 8.2948906
A31: I-95 Fredericksburg, VA | B31: =VLOOKUP($A31,'Current month raw data'!$B:$Q,5,FALSE) -> 69.902663 | C31: =VLOOKUP($A31,'Current month raw data'!$B:$Q,6,FALSE) -> 60.81535 | D31: =VLOOKUP($A31,'Current month raw data'!$B:$Q,7,FALSE) -> 107.46192 | E31: =VLOOKUP($A31,'Current month raw data'!$B:$Q,8,FALSE) -> 101.31957 | F31: =VLOOKUP($A31,'Current month raw data'!$B:$Q,9,FALSE) -> 75.118747 | G31: =VLOOKUP($A31,'Current month raw data'!$B:$Q,10,FALSE) -> 61.617852 | H31: =VLOOKUP($A31,'Current month raw data'!$B:$Q,11,FALSE) -> 14.942464 | I31: =VLOOKUP($A31,'Current month raw data'!$B:$Q,12,FALSE) -> 6.0623568 | J31: =VLOOKUP($A31,'Current month raw data'!$B:$Q,13,FALSE) -> 21.910687 | K31: =VLOOKUP($A31,'Current month raw data'!$B:$Q,14,FALSE) -> 21.222004 | L31: =VLOOKUP($A31,'Current month raw data'!$B:$Q,15,FALSE) -> -0.56490792 | M31: =VLOOKUP($A31,'Current month raw data'!$B:$Q,16,FALSE) -> 14.293145
A32: Dulles Airport Area, VA | B32: =VLOOKUP($A32,'Current month raw data'!$B:$Q,5,FALSE) -> 77.826501 | C32: =VLOOKUP($A32,'Current month raw data'!$B:$Q,6,FALSE) -> 71.820024 | D32: =VLOOKUP($A32,'Current month raw data'!$B:$Q,7,FALSE) -> 154.38387 | E32: =VLOOKUP($A32,'Current month raw data'!$B:$Q,8,FALSE) -> 141.54928 | F32: =VLOOKUP($A32,'Current month raw data'!$B:$Q,9,FALSE) -> 120.15156 | G32: =VLOOKUP($A32,'Current month raw data'!$B:$Q,10,FALSE) -> 101.66073 | H32: =VLOOKUP($A32,'Current month raw data'!$B:$Q,11,FALSE) -> 8.363234 | I32: =VLOOKUP($A32,'Current month raw data'!$B:$Q,12,FALSE) -> 9.0672187 | J32: =VLOOKUP($A32,'Current month raw data'!$B:$Q,13,FALSE) -> 18.188765 | K32: =VLOOKUP($A32,'Current month raw data'!$B:$Q,14,FALSE) -> 18.336726 | L32: =VLOOKUP($A32,'Current month raw data'!$B:$Q,15,FALSE) -> 0.12519002 | M32: =VLOOKUP($A32,'Current month raw data'!$B:$Q,16,FALSE) -> 8.498894
A34: Norfolk-Virginia Beach, VA | B34: =VLOOKUP($A34,'Current month raw data'!$B:$Q,5,FALSE) -> 68.556857 | C34: =VLOOKUP($A34,'Current month raw data'!$B:$Q,6,FALSE) -> 63.446265 | D34: =VLOOKUP($A34,'Current month raw data'!$B:$Q,7,FALSE) -> 137.51017 | E34: =VLOOKUP($A34,'Current month raw data'!$B:$Q,8,FALSE) -> 126.35724 | F34: =VLOOKUP($A34,'Current month raw data'!$B:$Q,9,FALSE) -> 94.272653 | G34: =VLOOKUP($A34,'Current month raw data'!$B:$Q,10,FALSE) -> 80.168951 | H34: =VLOOKUP($A34,'Current month raw data'!$B:$Q,11,FALSE) -> 8.0549921 | I34: =VLOOKUP($A34,'Current month raw data'!$B:$Q,12,FALSE) -> 8.826508 | J34: =VLOOKUP($A34,'Current month raw data'!$B:$Q,13,FALSE) -> 17.592475 | K34: =VLOOKUP($A34,'Current month raw data'!$B:$Q,14,FALSE) -> 17.855254 | L34: =VLOOKUP($A34,'Current month raw data'!$B:$Q,15,FALSE) -> 0.22346656 | M34: =VLOOKUP($A34,'Current month raw data'!$B:$Q,16,FALSE) -> 8.2964588
A35: Chesapeake/Suffolk, VA | B35: =VLOOKUP($A35,'Current month raw data'!$B:$Q,5,FALSE) -> 75.710325 | C35: =VLOOKUP($A35,'Current month raw data'!$B:$Q,6,FALSE) -> 71.461716 | D35: =VLOOKUP($A35,'Current month raw data'!$B:$Q,7,FALSE) -> 107.78809 | E35: =VLOOKUP($A35,'Current month raw data'!$B:$Q,8,FALSE) -> 102.32422 | F35: =VLOOKUP($A35,'Current month raw data'!$B:$Q,9,FALSE) -> 81.606711 | G35: =VLOOKUP($A35,'Current month raw data'!$B:$Q,10,FALSE) -> 73.122641 | H35: =VLOOKUP($A35,'Current month raw data'!$B:$Q,11,FALSE) -> 5.9452938 | I35: =VLOOKUP($A35,'Current month raw data'!$B:$Q,12,FALSE) -> 5.3397632 | J35: =VLOOKUP($A35,'Current month raw data'!$B:$Q,13,FALSE) -> 11.602522 | K35: =VLOOKUP($A35,'Current month raw data'!$B:$Q,14,FALSE) -> 18.175313 | L35: =VLOOKUP($A35,'Current month raw data'!$B:$Q,15,FALSE) -> 5.8894646 | M35: =VLOOKUP($A35,'Current month raw data'!$B:$Q,16,FALSE) -> 12.184904
A36: Newport News/Hampton, VA | B36: =VLOOKUP($A36,'Current month raw data'!$B:$Q,5,FALSE) -> 67.200932 | C36: =VLOOKUP($A36,'Current month raw data'!$B:$Q,6,FALSE) -> 68.448501 | D36: =VLOOKUP($A36,'Current month raw data'!$B:$Q,7,FALSE) -> 97.066905 | E36: =VLOOKUP($A36,'Current month raw data'!$B:$Q,8,FALSE) -> 98.973778 | F36: =VLOOKUP($A36,'Current month raw data'!$B:$Q,9,FALSE) -> 65.229865 | G36: =VLOOKUP($A36,'Current month raw data'!$B:$Q,10,FALSE) -> 67.746067 | H36: =VLOOKUP($A36,'Current month raw data'!$B:$Q,11,FALSE) -> -1.8226378 | I36: =VLOOKUP($A36,'Current month raw data'!$B:$Q,12,FALSE) -> -1.9266451 | J36: =VLOOKUP($A36,'Current month raw data'!$B:$Q,13,FALSE) -> -3.7141672 | K36: =VLOOKUP($A36,'Current month raw data'!$B:$Q,14,FALSE) -> -0.26891136 | L36: =VLOOKUP($A36,'Current month raw data'!$B:$Q,15,FALSE) -> 3.5781544 | M36: =VLOOKUP($A36,'Current month raw data'!$B:$Q,16,FALSE) -> 1.6902998
A37: Norfolk/Portsmouth, VA | B37: =VLOOKUP($A37,'Current month raw data'!$B:$Q,5,FALSE) -> 74.025485 | C37: =VLOOKUP($A37,'Current month raw data'!$B:$Q,6,FALSE) -> 66.660742 | D37: =VLOOKUP($A37,'Current month raw data'!$B:$Q,7,FALSE) -> 135.17556 | E37: =VLOOKUP($A37,'Current month raw data'!$B:$Q,8,FALSE) -> 126.1686 | F37: =VLOOKUP($A37,'Current month raw data'!$B:$Q,9,FALSE) -> 100.06437 | G37: =VLOOKUP($A37,'Current month raw data'!$B:$Q,10,FALSE) -> 84.104926 | H37: =VLOOKUP($A37,'Current month raw data'!$B:$Q,11,FALSE) -> 11.048096 | I37: =VLOOKUP($A37,'Current month raw data'!$B:$Q,12,FALSE) -> 7.1388287 | J37: =VLOOKUP($A37,'Current month raw data'!$B:$Q,13,FALSE) -> 18.975629 | K37: =VLOOKUP($A37,'Current month raw data'!$B:$Q,14,FALSE) -> 17.833666 | L37: =VLOOKUP($A37,'Current month raw data'!$B:$Q,15,FALSE) -> -0.95982936 | M37: =VLOOKUP($A37,'Current month raw data'!$B:$Q,16,FALSE) -> 9.9822238
A38: Virginia Beach, VA | B38: =VLOOKUP($A38,'Current month raw data'!$B:$Q,5,FALSE) -> 72.886657 | C38: =VLOOKUP($A38,'Current month raw data'!$B:$Q,6,FALSE) -> 64.429694 | D38: =VLOOKUP($A38,'Current month raw data'!$B:$Q,7,FALSE) -> 172.78917 | E38: =VLOOKUP($A38,'Current month raw data'!$B:$Q,8,FALSE) -> 153.57207 | F38: =VLOOKUP($A38,'Current month raw data'!$B:$Q,9,FALSE) -> 125.94025 | G38: =VLOOKUP($A38,'Current month raw data'!$B:$Q,10,FALSE) -> 98.946016 | H38: =VLOOKUP($A38,'Current month raw data'!$B:$Q,11,FALSE) -> 13.125879 | I38: =VLOOKUP($A38,'Current month raw data'!$B:$Q,12,FALSE) -> 12.513405 | J38: =VLOOKUP($A38,'Current month raw data'!$B:$Q,13,FALSE) -> 27.281778 | K38: =VLOOKUP($A38,'Current month raw data'!$B:$Q,14,FALSE) -> 27.441755 | L38: =VLOOKUP($A38,'Current month raw data'!$B:$Q,15,FALSE) -> 0.12568735 | M38: =VLOOKUP($A38,'Current month raw data'!$B:$Q,16,FALSE) -> 13.268064
... A58: Petersburg/Chester, VA | B58: =VLOOKUP($A58,'Current month raw data'!$B:$Q,5,FALSE) -> 63.288397 | C58: =VLOOKUP($A58,'Current month raw data'!$B:$Q,6,FALSE) -> 69.49705 | D58: =VLOOKUP($A58,'Current month raw data'!$B:$Q,7,FALSE) -> 97.609029 | E58: =VLOOKUP($A58,'Current month raw data'!$B:$Q,8,FALSE) -> 102.90227 | F58: =VLOOKUP($A58,'Current month raw data'!$B:$Q,9,FALSE) -> 61.77519 | G58: =VLOOKUP($A58,'Current month raw data'!$B:$Q,10,FALSE) -> 71.514041 | H58: =VLOOKUP($A58,'Current month raw data'!$B:$Q,11,FALSE) -> -8.933693 | I58: =VLOOKUP($A58,'Current month raw data'!$B:$Q,12,FALSE) -> -5.1439486 | J58: =VLOOKUP($A58,'Current month raw data'!$B:$Q,13,FALSE) -> -13.618097 | K58: =VLOOKUP($A58,'Current month raw data'!$B:$Q,14,FALSE) -> -8.8112223 | L58: =VLOOKUP($A58,'Current month raw data'!$B:$Q,15,FALSE) -> 5.564678 | M58: =VLOOKUP($A58,'Current month raw data'!$B:$Q,16,FALSE) -> -3.8661463
A59: SOURCE: COSTAR REALTY INFORMATION, INC. REPUBLICATION OR OTHER RE-USE OF THIS DATA WITHOUT THE EXPRESS WRITTEN PERMISSION OF COSTAR IS STRICTLY PROHIBITED. ANY REDISTRIBUTION OR REPUBLICATION OF THIS DATA BY PARTIES OTHER THAN VTC IS STRICTLY PROHIBITED.

Sheet Year To Date Report
A1: ='YTD Raw Data'!A1 -> YTD September 2026 Monthly Report | B1: ='YTD Raw Data'!F6 -> Year to Date - September 2026 vs September 2025
B2: Occupancy | D2: ADR | F2: RevPAR | H2: ='YTD Raw Data'!L7 -> Percent Change from YTD 2025
B3: ='YTD Raw Data'!F8 -> 2026 | C3: ='YTD Raw Data'!G8 -> 2025 | D3: ='YTD Raw Data'!H8 -> 2026 | E3: ='YTD Raw Data'!I8 -> 2025 | F3: ='YTD Raw Data'!J8 -> 2026 | G3: ='YTD Raw Data'!K8 -> 2025 | H3: Occ | I3: ADR | J3: RevPAR | K3: Room Rev | L3: Room Supply | M3: Room Demand
A4: United States | B4: =VLOOKUP($A4,'YTD Raw Data'!$B:$Q,5,FALSE) -> 64.588198 | C4: =VLOOKUP($A4,'YTD Raw Data'!$B:$Q,6,FALSE) -> 63.452748 | D4: =VLOOKUP($A4,'YTD Raw Data'!$B:$Q,7,FALSE) -> 166.90541 | E4: =VLOOKUP($A4,'YTD Raw Data'!$B:$Q,8,FALSE) -> 160.8348 | F4: =VLOOKUP($A4,'YTD Raw Data'!$B:$Q,9,FALSE) -> 107.8012 | G4: =VLOOKUP($A4,'YTD Raw Data'!$B:$Q,10,FALSE) -> 102.0541 | H4: =VLOOKUP($A4,'YTD Raw Data'!$B:$Q,11,FALSE) -> 1.789443 | I4: =VLOOKUP($A4,'YTD Raw Data'!$B:$Q,12,FALSE) -> 3.7744375 | J4: =VLOOKUP($A4,'YTD Raw Data'!$B:$Q,13,FALSE) -> 5.6314219 | K4: =VLOOKUP($A4,'YTD Raw Data'!$B:$Q,14,FALSE) -> 6.0986468 | L4: =VLOOKUP($A4,'YTD Raw Data'!$B:$Q,15,FALSE) -> 0.44231617 | M4: =VLOOKUP($A4,'YTD Raw Data'!$B:$Q,16,FALSE) -> 2.2396742
A5: Virginia | B5: =VLOOKUP($A5,'YTD Raw Data'!$B:$Q,5,FALSE) -> 65.752518 | C5: =VLOOKUP($A5,'YTD Raw Data'!$B:$Q,6,FALSE) -> 63.792245 | D5: =VLOOKUP($A5,'YTD Raw Data'!$B:$Q,7,FALSE) -> 140.04297 | E5: =VLOOKUP($A5,'YTD Raw Data'!$B:$Q,8,FALSE) -> 134.95811 | F5: =VLOOKUP($A5,'YTD Raw Data'!$B:$Q,9,FALSE) -> 92.08178 | G5: =VLOOKUP($A5,'YTD Raw Data'!$B:$Q,10,FALSE) -> 86.09281 | H5: =VLOOKUP($A5,'YTD Raw Data'!$B:$Q,11,FALSE) -> 3.0729013 | I5: =VLOOKUP($A5,'YTD Raw Data'!$B:$Q,12,FALSE) -> 3.7677307 | J5: =VLOOKUP($A5,'YTD Raw Data'!$B:$Q,13,FALSE) -> 6.9564107 | K5: =VLOOKUP($A5,'YTD Raw Data'!$B:$Q,14,FALSE) -> 7.5560145 | L5: =VLOOKUP($A5,'YTD Raw Data'!$B:$Q,15,FALSE) -> 0.56060576 | M5: =VLOOKUP($A5,'YTD Raw Data'!$B:$Q,16,FALSE) -> 3.6507339
A7: Virginia Class Scales
A8: Luxury | B8: =VLOOKUP($A8,'YTD Raw Data'!$B:$Q,5,FALSE) -> 64.719081 | C8: =VLOOKUP($A8,'YTD Raw Data'!$B:$Q,6,FALSE) -> 61.144312 | D8: =VLOOKUP($A8,'YTD Raw Data'!$B:$Q,7,FALSE) -> 331.18763 | E8: =VLOOKUP($A8,'YTD Raw Data'!$B:$Q,8,FALSE) -> 319.00158 | F8: =VLOOKUP($A8,'YTD Raw Data'!$B:$Q,9,FALSE) -> 214.34159 | G8: =VLOOKUP($A8,'YTD Raw Data'!$B:$Q,10,FALSE) -> 195.05132 | H8: =VLOOKUP($A8,'YTD Raw Data'!$B:$Q,11,FALSE) -> 5.8464457 | I8: =VLOOKUP($A8,'YTD Raw Data'!$B:$Q,12,FALSE) -> 3.8200603 | J8: =VLOOKUP($A8,'YTD Raw Data'!$B:$Q,13,FALSE) -> 9.8898438 | K8: =VLOOKUP($A8,'YTD Raw Data'!$B:$Q,14,FALSE) -> 15.276679 | L8: =VLOOKUP($A8,'YTD Raw Data'!$B:$Q,15,FALSE) -> 4.9020316 | M8: =VLOOKUP($A8,'YTD Raw Data'!$B:$Q,16,FALSE) -> 11.035072
A9: Upper Upscale | B9: =VLOOKUP($A9,'YTD Raw Data'!$B:$Q,5,FALSE) -> 70.802911 | C9: =VLOOKUP($A9,'YTD Raw Data'!$B:$Q,6,FALSE) -> 68.980465 | D9: =VLOOKUP($A9,'YTD Raw Data'!$B:$Q,7,FALSE) -> 203.24006 | E9: =VLOOKUP($A9,'YTD Raw Data'!$B:$Q,8,FALSE) -> 196.81582 | F9: =VLOOKUP($A9,'YTD Raw Data'!$B:$Q,9,FALSE) -> 143.89988 | G9: =VLOOKUP($A9,'YTD Raw Data'!$B:$Q,10,FALSE) -> 135.76447 | H9: =VLOOKUP($A9,'YTD Raw Data'!$B:$Q,11,FALSE) -> 2.6419741 | I9: =VLOOKUP($A9,'YTD Raw Data'!$B:$Q,12,FALSE) -> 3.2640864 | J9: =VLOOKUP($A9,'YTD Raw Data'!$B:$Q,13,FALSE) -> 5.9922968 | K9: =VLOOKUP($A9,'YTD Raw Data'!$B:$Q,14,FALSE) -> 7.7625582 | L9: =VLOOKUP($A9,'YTD Raw Data'!$B:$Q,15,FALSE) -> 1.6701793 | M9: =VLOOKUP($A9,'YTD Raw Data'!$B:$Q,16,FALSE) -> 4.3562791
A10: Upscale | B10: =VLOOKUP($A10,'YTD Raw Data'!$B:$Q,5,FALSE) -> 71.582195 | C10: =VLOOKUP($A10,'YTD Raw Data'!$B:$Q,6,FALSE) -> 68.80933 | D10: =VLOOKUP($A10,'YTD Raw Data'!$B:$Q,7,FALSE) -> 160.61859 | E10: =VLOOKUP($A10,'YTD Raw Data'!$B:$Q,8,FALSE) -> 154.26463 | F10: =VLOOKUP($A10,'YTD Raw Data'!$B:$Q,9,FALSE) -> 114.97431 | G10: =VLOOKUP($A10,'YTD Raw Data'!$B:$Q,10,FALSE) -> 106.14846 | H10: =VLOOKUP($A10,'YTD Raw Data'!$B:$Q,11,FALSE) -> 4.0297806 | I10: =VLOOKUP($A10,'YTD Raw Data'!$B:$Q,12,FALSE) -> 4.1188736 | J10: =VLOOKUP($A10,'YTD Raw Data'!$B:$Q,13,FALSE) -> 8.3146358 | K10: =VLOOKUP($A10,'YTD Raw Data'!$B:$Q,14,FALSE) -> 9.7720744 | L10: =VLOOKUP($A10,'YTD Raw Data'!$B:$Q,15,FALSE) -> 1.3455601 | M10: =VLOOKUP($A10,'YTD Raw Data'!$B:$Q,16,FALSE) -> 5.4295639
A11: Upper Midscale | B11: =VLOOKUP($A11,'YTD Raw Data'!$B:$Q,5,FALSE) -> 68.146585 | C11: =VLOOKUP($A11,'YTD Raw Data'!$B:$Q,6,FALSE) -> 65.694687 | D11: =VLOOKUP($A11,'YTD Raw Data'!$B:$Q,7,FALSE) -> 131.26086 | E11: =VLOOKUP($A11,'YTD Raw Data'!$B:$Q,8,FALSE) -> 127.81588 | F11: =VLOOKUP($A11,'YTD Raw Data'!$B:$Q,9,FALSE) -> 89.449792 | G11: =VLOOKUP($A11,'YTD Raw Data'!$B:$Q,10,FALSE) -> 83.968242 | H11: =VLOOKUP($A11,'YTD Raw Data'!$B:$Q,11,FALSE) -> 3.732262 | I11: =VLOOKUP($A11,'YTD Raw Data'!$B:$Q,12,FALSE) -> 2.6952664 | J11: =VLOOKUP($A11,'YTD Raw Data'!$B:$Q,13,FALSE) -> 6.5281228 | K11: =VLOOKUP($A11,'YTD Raw Data'!$B:$Q,14,FALSE) -> 5.7457217 | L11: =VLOOKUP($A11,'YTD Raw Data'!$B:$Q,15,FALSE) -> -0.73445496 | M11: =VLOOKUP($A11,'YTD Raw Data'!$B:$Q,16,FALSE) -> 2.9703953
A12: Midscale | B12: =VLOOKUP($A12,'YTD Raw Data'!$B:$Q,5,FALSE) -> 61.905217 | C12: =VLOOKUP($A12,'YTD Raw Data'!$B:$Q,6,FALSE) -> 60.253654 | D12: =VLOOKUP($A12,'YTD Raw Data'!$B:$Q,7,FALSE) -> 95.053891 | E12: =VLOOKUP($A12,'YTD Raw Data'!$B:$Q,8,FALSE) -> 92.032648 | F12: =VLOOKUP($A12,'YTD Raw Data'!$B:$Q,9,FALSE) -> 58.843318 | G12: =VLOOKUP($A12,'YTD Raw Data'!$B:$Q,10,FALSE) -> 55.453033 | H12: =VLOOKUP($A12,'YTD Raw Data'!$B:$Q,11,FALSE) -> 2.7410179 | I12: =VLOOKUP($A12,'YTD Raw Data'!$B:$Q,12,FALSE) -> 3.2827945 | J12: =VLOOKUP($A12,'YTD Raw Data'!$B:$Q,13,FALSE) -> 6.1137943 | K12: =VLOOKUP($A12,'YTD Raw Data'!$B:$Q,14,FALSE) -> 7.3684593 | L12: =VLOOKUP($A12,'YTD Raw Data'!$B:$Q,15,FALSE) -> 1.1823769 | M12: =VLOOKUP($A12,'YTD Raw Data'!$B:$Q,16,FALSE) -> 3.9558039
A13: Economy | B13: =VLOOKUP($A13,'YTD Raw Data'!$B:$Q,5,FALSE) -> 55.658502 | C13: =VLOOKUP($A13,'YTD Raw Data'!$B:$Q,6,FALSE) -> 55.142884 | D13: =VLOOKUP($A13,'YTD Raw Data'!$B:$Q,7,FALSE) -> 68.974317 | E13: =VLOOKUP($A13,'YTD Raw Data'!$B:$Q,8,FALSE) -> 68.711136 | F13: =VLOOKUP($A13,'YTD Raw Data'!$B:$Q,9,FALSE) -> 38.390071 | G13: =VLOOKUP($A13,'YTD Raw Data'!$B:$Q,10,FALSE) -> 37.889302 | H13: =VLOOKUP($A13,'YTD Raw Data'!$B:$Q,11,FALSE) -> 0.93505802 | I13: =VLOOKUP($A13,'YTD Raw Data'!$B:$Q,12,FALSE) -> 0.38302482 | J13: =VLOOKUP($A13,'YTD Raw Data'!$B:$Q,13,FALSE) -> 1.3216643 | K13: =VLOOKUP($A13,'YTD Raw Data'!$B:$Q,14,FALSE) -> 0.84223848 | L13: =VLOOKUP($A13,'YTD Raw Data'!$B:$Q,15,FALSE) -> -0.47317212 | M13: =VLOOKUP($A13,'YTD Raw Data'!$B:$Q,16,FALSE) -> 0.45746146
A14: VTC Tourism Regions
A15: Central Virginia | B15: =VLOOKUP($A15,'YTD Raw Data'!$B:$Q,5,FALSE) -> 64.920109 | C15: =VLOOKUP($A15,'YTD Raw Data'!$B:$Q,6,FALSE) -> 63.688185 | D15: =VLOOKUP($A15,'YTD Raw Data'!$B:$Q,7,FALSE) -> 126.88114 | E15: =VLOOKUP($A15,'YTD Raw Data'!$B:$Q,8,FALSE) -> 124.00449 | F15: =VLOOKUP($A15,'YTD Raw Data'!$B:$Q,9,FALSE) -> 82.371377 | G15: =VLOOKUP($A15,'YTD Raw Data'!$B:$Q,10,FALSE) -> 78.976206 | H15: =VLOOKUP($A15,'YTD Raw Data'!$B:$Q,11,FALSE) -> 1.9343058 | I15: =VLOOKUP($A15,'YTD Raw Data'!$B:$Q,12,FALSE) -> 2.3198015 | J15: =VLOOKUP($A15,'YTD Raw Data'!$B:$Q,13,FALSE) -> 4.2989794 | K15: =VLOOKUP($A15,'YTD Raw Data'!$B:$Q,14,FALSE) -> 7.1184831 | L15: =VLOOKUP($A15,'YTD Raw Data'!$B:$Q,15,FALSE) -> 2.7032898 | M15: =VLOOKUP($A15,'YTD Raw Data'!$B:$Q,16,FALSE) -> 4.6898856
A16: Chesapeake Bay | B16: =VLOOKUP($A16,'YTD Raw Data'!$B:$Q,5,FALSE) -> 55.877873 | C16: =VLOOKUP($A16,'YTD Raw Data'!$B:$Q,6,FALSE) -> 58.335476 | D16: =VLOOKUP($A16,'YTD Raw Data'!$B:$Q,7,FALSE) -> 121.75638 | E16: =VLOOKUP($A16,'YTD Raw Data'!$B:$Q,8,FALSE) -> 118.99959 | F16: =VLOOKUP($A16,'YTD Raw Data'!$B:$Q,9,FALSE) -> 68.034878 | G16: =VLOOKUP($A16,'YTD Raw Data'!$B:$Q,10,FALSE) -> 69.418976 | H16: =VLOOKUP($A16,'YTD Raw Data'!$B:$Q,11,FALSE) -> -4.212879 | I16: =VLOOKUP($A16,'YTD Raw Data'!$B:$Q,12,FALSE) -> 2.3166436 | J16: =VLOOKUP($A16,'YTD Raw Data'!$B:$Q,13,FALSE) -> -1.9938327 | K16: =VLOOKUP($A16,'YTD Raw Data'!$B:$Q,14,FALSE) -> -3.2371814 | L16: =VLOOKUP($A16,'YTD Raw Data'!$B:$Q,15,FALSE) -> -1.2686433 | M16: =VLOOKUP($A16,'YTD Raw Data'!$B:$Q,16,FALSE) -> -5.4280759
A17: Coastal Virginia - Eastern Shore | B17: =VLOOKUP($A17,'YTD Raw Data'!$B:$Q,5,FALSE) -> 54.621772 | C17: =VLOOKUP($A17,'YTD Raw Data'!$B:$Q,6,FALSE) -> 56.015799 | D17: =VLOOKUP($A17,'YTD Raw Data'!$B:$Q,7,FALSE) -> 130.19038 | E17: =VLOOKUP($A17,'YTD Raw Data'!$B:$Q,8,FALSE) -> 132.46224 | F17: =VLOOKUP($A17,'YTD Raw Data'!$B:$Q,9,FALSE) -> 71.112295 | G17: =VLOOKUP($A17,'YTD Raw Data'!$B:$Q,10,FALSE) -> 74.19978 | H17: =VLOOKUP($A17,'YTD Raw Data'!$B:$Q,11,FALSE) -> -2.4886317 | I17: =VLOOKUP($A17,'YTD Raw Data'!$B:$Q,12,FALSE) -> -1.7150939 | J17: =VLOOKUP($A17,'YTD Raw Data'!$B:$Q,13,FALSE) -> -4.1610432 | K17: =VLOOKUP($A17,'YTD Raw Data'!$B:$Q,14,FALSE) -> -4.1610432 | L17: =VLOOKUP($A17,'YTD Raw Data'!$B:$Q,15,FALSE) -> 0 | M17: =VLOOKUP($A17,'YTD Raw Data'!$B:$Q,16,FALSE) -> -2.4886317
A18: Coastal Virginia - Hampton Roads | B18: =VLOOKUP($A18,'YTD Raw Data'!$B:$Q,5,FALSE) -> 66.880845 | C18: =VLOOKUP($A18,'YTD Raw Data'!$B:$Q,6,FALSE) -> 63.865768 | D18: =VLOOKUP($A18,'YTD Raw Data'!$B:$Q,7,FALSE) -> 139.10841 | E18: =VLOOKUP($A18,'YTD Raw Data'!$B:$Q,8,FALSE) -> 135.344 | F18: =VLOOKUP($A18,'YTD Raw Data'!$B:$Q,9,FALSE) -> 93.036881 | G18: =VLOOKUP($A18,'YTD Raw Data'!$B:$Q,10,FALSE) -> 86.438482 | H18: =VLOOKUP($A18,'YTD Raw Data'!$B:$Q,11,FALSE) -> 4.7209592 | I18: =VLOOKUP($A18,'YTD Raw Data'!$B:$Q,12,FALSE) -> 2.781369 | J18: =VLOOKUP($A18,'YTD Raw Data'!$B:$Q,13,FALSE) -> 7.6336355 | K18: =VLOOKUP($A18,'YTD Raw Data'!$B:$Q,14,FALSE) -> 5.9022979 | L18: =VLOOKUP($A18,'YTD Raw Data'!$B:$Q,15,FALSE) -> -1.608547 | M18: =VLOOKUP($A18,'YTD Raw Data'!$B:$Q,16,FALSE) -> 3.0364734
A19: Northern Virginia | B19: =VLOOKUP($A19,'YTD Raw Data'!$B:$Q,5,FALSE) -> 71.896928 | C19: =VLOOKUP($A19,'YTD Raw Data'!$B:$Q,6,FALSE) -> 68.307254 | D19: =VLOOKUP($A19,'YTD Raw Data'!$B:$Q,7,FALSE) -> 160.38326 | E19: =VLOOKUP($A19,'YTD Raw Data'!$B:$Q,8,FALSE) -> 151.17269 | F19: =VLOOKUP($A19,'YTD Raw Data'!$B:$Q,9,FALSE) -> 115.31064 | G19: =VLOOKUP($A19,'YTD Raw Data'!$B:$Q,10,FALSE) -> 103.26192 | H19: =VLOOKUP($A19,'YTD Raw Data'!$B:$Q,11,FALSE) -> 5.2551869 | I19: =VLOOKUP($A19,'YTD Raw Data'!$B:$Q,12,FALSE) -> 6.0927461 | J19: =VLOOKUP($A19,'YTD Raw Data'!$B:$Q,13,FALSE) -> 11.668118 | K19: =VLOOKUP($A19,'YTD Raw Data'!$B:$Q,14,FALSE) -> 12.141913 | L19: =VLOOKUP($A19,'YTD Raw Data'!$B:$Q,15,FALSE) -> 0.42428857 | M19: =VLOOKUP($A19,'YTD Raw Data'!$B:$Q,16,FALSE) -> 5.7017726
A20: Shenandoah Valley | B20: =VLOOKUP($A20,'YTD Raw Data'!$B:$Q,5,FALSE) -> 56.237551 | C20: =VLOOKUP($A20,'YTD Raw Data'!$B:$Q,6,FALSE) -> 56.553714 | D20: =VLOOKUP($A20,'YTD Raw Data'!$B:$Q,7,FALSE) -> 107.57286 | E20: =VLOOKUP($A20,'YTD Raw Data'!$B:$Q,8,FALSE) -> 105.96515 | F20: =VLOOKUP($A20,'YTD Raw Data'!$B:$Q,9,FALSE) -> 60.496344 | G20: =VLOOKUP($A20,'YTD Raw Data'!$B:$Q,10,FALSE) -> 59.927227 | H20: =VLOOKUP($A20,'YTD Raw Data'!$B:$Q,11,FALSE) -> -0.55904847 | I20: =VLOOKUP($A20,'YTD Raw Data'!$B:$Q,12,FALSE) -> 1.5172102 | J20: =VLOOKUP($A20,'YTD Raw Data'!$B:$Q,13,FALSE) -> 0.94967974 | K20: =VLOOKUP($A20,'YTD Raw Data'!$B:$Q,14,FALSE) -> 2.8916892 | L20: =VLOOKUP($A20,'YTD Raw Data'!$B:$Q,15,FALSE) -> 1.9237401 | M20: =VLOOKUP($A20,'YTD Raw Data'!$B:$Q,16,FALSE) -> 1.353937
A21: Southern Virginia | B21: =VLOOKUP($A21,'YTD Raw Data'!$B:$Q,5,FALSE) -> 57.172985 | C21: =VLOOKUP($A21,'YTD Raw Data'!$B:$Q,6,FALSE) -> 59.725512 | D21: =VLOOKUP($A21,'YTD Raw Data'!$B:$Q,7,FALSE) -> 112.46215 | E21: =VLOOKUP($A21,'YTD Raw Data'!$B:$Q,8,FALSE) -> 113.24401 | F21: =VLOOKUP($A21,'YTD Raw Data'!$B:$Q,9,FALSE) -> 64.297967 | G21: =VLOOKUP($A21,'YTD Raw Data'!$B:$Q,10,FALSE) -> 67.635564 | H21: =VLOOKUP($A21,'YTD Raw Data'!$B:$Q,11,FALSE) -> -4.2737631 | I21: =VLOOKUP($A21,'YTD Raw Data'!$B:$Q,12,FALSE) -> -0.69042248 | J21: =VLOOKUP($A21,'YTD Raw Data'!$B:$Q,13,FALSE) -> -4.9346785 | K21: =VLOOKUP($A21,'YTD Raw Data'!$B:$Q,14,FALSE) -> -2.8719044 | L21: =VLOOKUP($A21,'YTD Raw Data'!$B:$Q,15,FALSE) -> 2.1698492 | M21: =VLOOKUP($A21,'YTD Raw Data'!$B:$Q,16,FALSE) -> -2.1966481
A22: Southwest Virginia - Blue Ridge Highlands | B22: =VLOOKUP($A22,'YTD Raw Data'!$B:$Q,5,FALSE) -> 55.327276 | C22: =VLOOKUP($A22,'YTD Raw Data'!$B:$Q,6,FALSE) -> 56.792929 | D22: =VLOOKUP($A22,'YTD Raw Data'!$B:$Q,7,FALSE) -> 123.53829 | E22: =VLOOKUP($A22,'YTD Raw Data'!$B:$Q,8,FALSE) -> 124.39742 | F22: =VLOOKUP($A22,'YTD Raw Data'!$B:$Q,9,FALSE) -> 68.350371 | G22: =VLOOKUP($A22,'YTD Raw Data'!$B:$Q,10,FALSE) -> 70.648938 | H22: =VLOOKUP($A22,'YTD Raw Data'!$B:$Q,11,FALSE) -> -2.5806962 | I22: =VLOOKUP($A22,'YTD Raw Data'!$B:$Q,12,FALSE) -> -0.69063185 | J22: =VLOOKUP($A22,'YTD Raw Data'!$B:$Q,13,FALSE) -> -3.2535049 | K22: =VLOOKUP($A22,'YTD Raw Data'!$B:$Q,14,FALSE) -> -3.1390376 | L22: =VLOOKUP($A22,'YTD Raw Data'!$B:$Q,15,FALSE) -> 0.1183167 | M22: =VLOOKUP($A22,'YTD Raw Data'!$B:$Q,16,FALSE) -> -2.4654328
A23: Southwest Virginia - Heart of Appalachia | B23: =VLOOKUP($A23,'YTD Raw Data'!$B:$Q,5,FALSE) -> 48.18764 | C23: =VLOOKUP($A23,'YTD Raw Data'!$B:$Q,6,FALSE) -> 50.797072 | D23: =VLOOKUP($A23,'YTD Raw Data'!$B:$Q,7,FALSE) -> 93.813903 | E23: =VLOOKUP($A23,'YTD Raw Data'!$B:$Q,8,FALSE) -> 93.374712 | F23: =VLOOKUP($A23,'YTD Raw Data'!$B:$Q,9,FALSE) -> 45.206706 | G23: =VLOOKUP($A23,'YTD Raw Data'!$B:$Q,10,FALSE) -> 47.43162 | H23: =VLOOKUP($A23,'YTD Raw Data'!$B:$Q,11,FALSE) -> -5.136975 | I23: =VLOOKUP($A23,'YTD Raw Data'!$B:$Q,12,FALSE) -> 0.47035404 | J23: =VLOOKUP($A23,'YTD Raw Data'!$B:$Q,13,FALSE) -> -4.6907829 | K23: =VLOOKUP($A23,'YTD Raw Data'!$B:$Q,14,FALSE) -> -8.4065304 | L23: =VLOOKUP($A23,'YTD Raw Data'!$B:$Q,15,FALSE) -> -3.8986235 | M23: =VLOOKUP($A23,'YTD Raw Data'!$B:$Q,16,FALSE) -> -8.8353272
A24: Virginia Mountains | B24: =VLOOKUP($A24,'YTD Raw Data'!$B:$Q,5,FALSE) -> 60.083417 | C24: =VLOOKUP($A24,'YTD Raw Data'!$B:$Q,6,FALSE) -> 58.85038 | D24: =VLOOKUP($A24,'YTD Raw Data'!$B:$Q,7,FALSE) -> 130.17545 | E24: =VLOOKUP($A24,'YTD Raw Data'!$B:$Q,8,FALSE) -> 130.15073 | F24: =VLOOKUP($A24,'YTD Raw Data'!$B:$Q,9,FALSE) -> 78.213859 | G24: =VLOOKUP($A24,'YTD Raw Data'!$B:$Q,10,FALSE) -> 76.5942 | H24: =VLOOKUP($A24,'YTD Raw Data'!$B:$Q,11,FALSE) -> 2.0952069 | I24: =VLOOKUP($A24,'YTD Raw Data'!$B:$Q,12,FALSE) -> 0.018992851 | J24: =VLOOKUP($A24,'YTD Raw Data'!$B:$Q,13,FALSE) -> 2.1145977 | K24: =VLOOKUP($A24,'YTD Raw Data'!$B:$Q,14,FALSE) -> 4.3040761 | L24: =VLOOKUP($A24,'YTD Raw Data'!$B:$Q,15,FALSE) -> 2.1441385 | M24: =VLOOKUP($A24,'YTD Raw Data'!$B:$Q,16,FALSE) -> 4.2842695
A25: STR/CoSTAR Designated Hospitality Markets
A26: Washington, DC | B26: =VLOOKUP($A26,'YTD Raw Data'!$B:$Q,5,FALSE) -> 70.534276 | C26: =VLOOKUP($A26,'YTD Raw Data'!$B:$Q,6,FALSE) -> 67.551695 | D26: =VLOOKUP($A26,'YTD Raw Data'!$B:$Q,7,FALSE) -> 193.04248 | E26: =VLOOKUP($A26,'YTD Raw Data'!$B:$Q,8,FALSE) -> 188.35838 | F26: =VLOOKUP($A26,'YTD Raw Data'!$B:$Q,9,FALSE) -> 136.16111 | G26: =VLOOKUP($A26,'YTD Raw Data'!$B:$Q,10,FALSE) -> 127.23928 | H26: =VLOOKUP($A26,'YTD Raw Data'!$B:$Q,11,FALSE) -> 4.4152567 | I26: =VLOOKUP($A26,'YTD Raw Data'!$B:$Q,12,FALSE) -> 2.4868032 | J26: =VLOOKUP($A26,'YTD Raw Data'!$B:$Q,13,FALSE) -> 7.0118587 | K26: =VLOOKUP($A26,'YTD Raw Data'!$B:$Q,14,FALSE) -> 7.3856652 | L26: =VLOOKUP($A26,'YTD Raw Data'!$B:$Q,15,FALSE) -> 0.34931314 | M26: =VLOOKUP($A26,'YTD Raw Data'!$B:$Q,16,FALSE) -> 4.7799929
A27: Arlington, VA | B27: =VLOOKUP($A27,'YTD Raw Data'!$B:$Q,5,FALSE) -> 76.379545 | C27: =VLOOKUP($A27,'YTD Raw Data'!$B:$Q,6,FALSE) -> 72.360138 | D27: =VLOOKUP($A27,'YTD Raw Data'!$B:$Q,7,FALSE) -> 213.10875 | E27: =VLOOKUP($A27,'YTD Raw Data'!$B:$Q,8,FALSE) -> 195.05777 | F27: =VLOOKUP($A27,'YTD Raw Data'!$B:$Q,9,FALSE) -> 162.77149 | G27: =VLOOKUP($A27,'YTD Raw Data'!$B:$Q,10,FALSE) -> 141.14407 | H27: =VLOOKUP($A27,'YTD Raw Data'!$B:$Q,11,FALSE) -> 5.5547256 | I27: =VLOOKUP($A27,'YTD Raw Data'!$B:$Q,12,FALSE) -> 9.2541717 | J27: =VLOOKUP($A27,'YTD Raw Data'!$B:$Q,13,FALSE) -> 15.322941 | K27: =VLOOKUP($A27,'YTD Raw Data'!$B:$Q,14,FALSE) -> 13.361255 | L27: =VLOOKUP($A27,'YTD Raw Data'!$B:$Q,15,FALSE) -> -1.7010375 | M27: =VLOOKUP($A27,'YTD Raw Data'!$B:$Q,16,FALSE) -> 3.7592002
A28: Alexandria, VA | B28: =VLOOKUP($A28,'YTD Raw Data'!$B:$Q,5,FALSE) -> 70.727947 | C28: =VLOOKUP($A28,'YTD Raw Data'!$B:$Q,6,FALSE) -> 65.414336 | D28: =VLOOKUP($A28,'YTD Raw Data'!$B:$Q,7,FALSE) -> 161.35099 | E28: =VLOOKUP($A28,'YTD Raw Data'!$B:$Q,8,FALSE) -> 153.69646 | F28: =VLOOKUP($A28,'YTD Raw Data'!$B:$Q,9,FALSE) -> 114.12024 | G28: =VLOOKUP($A28,'YTD Raw Data'!$B:$Q,10,FALSE) -> 100.53952 | H28: =VLOOKUP($A28,'YTD Raw Data'!$B:$Q,11,FALSE) -> 8.1230057 | I28: =VLOOKUP($A28,'YTD Raw Data'!$B:$Q,12,FALSE) -> 4.9802935 | J28: =VLOOKUP($A28,'YTD Raw Data'!$B:$Q,13,FALSE) -> 13.507849 | K28: =VLOOKUP($A28,'YTD Raw Data'!$B:$Q,14,FALSE) -> 13.666264 | L28: =VLOOKUP($A28,'YTD Raw Data'!$B:$Q,15,FALSE) -> 0.1395636 | M28: =VLOOKUP($A28,'YTD Raw Data'!$B:$Q,16,FALSE) -> 8.273906
A29: Fairfax/Tysons Corner, VA | B29: =VLOOKUP($A29,'YTD Raw Data'!$B:$Q,5,FALSE) -> 71.878226 | C29: =VLOOKUP($A29,'YTD Raw Data'!$B:$Q,6,FALSE) -> 69.817409 | D29: =VLOOKUP($A29,'YTD Raw Data'!$B:$Q,7,FALSE) -> 172.80513 | E29: =VLOOKUP($A29,'YTD Raw Data'!$B:$Q,8,FALSE) -> 164.31208 | F29: =VLOOKUP($A29,'YTD Raw Data'!$B:$Q,9,FALSE) -> 124.20926 | G29: =VLOOKUP($A29,'YTD Raw Data'!$B:$Q,10,FALSE) -> 114.71843 | H29: =VLOOKUP($A29,'YTD Raw Data'!$B:$Q,11,FALSE) -> 2.9517238 | I29: =VLOOKUP($A29,'YTD Raw Data'!$B:$Q,12,FALSE) -> 5.1688576 | J29: =VLOOKUP($A29,'YTD Raw Data'!$B:$Q,13,FALSE) -> 8.2731518 | K29: =VLOOKUP($A29,'YTD Raw Data'!$B:$Q,14,FALSE) -> 8.0338963 | L29: =VLOOKUP($A29,'YTD Raw Data'!$B:$Q,15,FALSE) -> -0.22097399 | M29: =VLOOKUP($A29,'YTD Raw Data'!$B:$Q,16,FALSE) -> 2.7242273
A30: Suburban Virginia Area | B30: =VLOOKUP($A30,'YTD Raw Data'!$B:$Q,5,FALSE) -> 68.682705 | C30: =VLOOKUP($A30,'YTD Raw Data'!$B:$Q,6,FALSE) -> 65.293914 | D30: =VLOOKUP($A30,'YTD Raw Data'!$B:$Q,7,FALSE) -> 161.84994 | E30: =VLOOKUP($A30,'YTD Raw Data'!$B:$Q,8,FALSE) -> 152.25847 | F30: =VLOOKUP($A30,'YTD Raw Data'!$B:$Q,9,FALSE) -> 111.16291 | G30: =VLOOKUP($A30,'YTD Raw Data'!$B:$Q,10,FALSE) -> 99.415517 | H30: =VLOOKUP($A30,'YTD Raw Data'!$B:$Q,11,FALSE) -> 5.1900565 | I30: =VLOOKUP($A30,'YTD Raw Data'!$B:$Q,12,FALSE) -> 6.2994609 | J30: =VLOOKUP($A30,'YTD Raw Data'!$B:$Q,13,FALSE) -> 11.816463 | K30: =VLOOKUP($A30,'YTD Raw Data'!$B:$Q,14,FALSE) -> 12.679357 | L30: =VLOOKUP($A30,'YTD Raw Data'!$B:$Q,15,FALSE) -> 0.77170537 | M30: =VLOOKUP($A30,'YTD Raw Data'!$B:$Q,16,FALSE) -> 6.0018138
A31: I-95 Fredericksburg, VA | B31: =VLOOKUP($A31,'YTD Raw Data'!$B:$Q,5,FALSE) -> 67.597226 | C31: =VLOOKUP($A31,'YTD Raw Data'!$B:$Q,6,FALSE) -> 62.606886 | D31: =VLOOKUP($A31,'YTD Raw Data'!$B:$Q,7,FALSE) -> 107.42728 | E31: =VLOOKUP($A31,'YTD Raw Data'!$B:$Q,8,FALSE) -> 103.6698 | F31: =VLOOKUP($A31,'YTD Raw Data'!$B:$Q,9,FALSE) -> 72.61786 | G31: =VLOOKUP($A31,'YTD Raw Data'!$B:$Q,10,FALSE) -> 64.904431 | H31: =VLOOKUP($A31,'YTD Raw Data'!$B:$Q,11,FALSE) -> 7.9709127 | I31: =VLOOKUP($A31,'YTD Raw Data'!$B:$Q,12,FALSE) -> 3.6244717 | J31: =VLOOKUP($A31,'YTD Raw Data'!$B:$Q,13,FALSE) -> 11.884288 | K31: =VLOOKUP($A31,'YTD Raw Data'!$B:$Q,14,FALSE) -> 11.34615 | L31: =VLOOKUP($A31,'YTD Raw Data'!$B:$Q,15,FALSE) -> -0.4809775 | M31: =VLOOKUP($A31,'YTD Raw Data'!$B:$Q,16,FALSE) -> 7.4515969
A32: Dulles Airport Area, VA | B32: =VLOOKUP($A32,'YTD Raw Data'!$B:$Q,5,FALSE) -> 75.431972 | C32: =VLOOKUP($A32,'YTD Raw Data'!$B:$Q,6,FALSE) -> 73.22043 | D32: =VLOOKUP($A32,'YTD Raw Data'!$B:$Q,7,FALSE) -> 144.85575 | E32: =VLOOKUP($A32,'YTD Raw Data'!$B:$Q,8,FALSE) -> 136.35527 | F32: =VLOOKUP($A32,'YTD Raw Data'!$B:$Q,9,FALSE) -> 109.26755 | G32: =VLOOKUP($A32,'YTD Raw Data'!$B:$Q,10,FALSE) -> 99.839918 | H32: =VLOOKUP($A32,'YTD Raw Data'!$B:$Q,11,FALSE) -> 3.0203885 | I32: =VLOOKUP($A32,'YTD Raw Data'!$B:$Q,12,FALSE) -> 6.2340672 | J32: =VLOOKUP($A32,'YTD Raw Data'!$B:$Q,13,FALSE) -> 9.4427487 | K32: =VLOOKUP($A32,'YTD Raw Data'!$B:$Q,14,FALSE) -> 13.371725 | L32: =VLOOKUP($A32,'YTD Raw Data'!$B:$Q,15,FALSE) -> 3.589983 | M32: =VLOOKUP($A32,'YTD Raw Data'!$B:$Q,16,FALSE) -> 6.7188029
A34: Norfolk-Virginia Beach, VA | B34: =VLOOKUP($A34,'YTD Raw Data'!$B:$Q,5,FALSE) -> 66.910905 | C34: =VLOOKUP($A34,'YTD Raw Data'!$B:$Q,6,FALSE) -> 63.937412 | D34: =VLOOKUP($A34,'YTD Raw Data'!$B:$Q,7,FALSE) -> 139.42367 | E34: =VLOOKUP($A34,'YTD Raw Data'!$B:$Q,8,FALSE) -> 135.6329 | F34: =VLOOKUP($A34,'YTD Raw Data'!$B:$Q,9,FALSE) -> 93.289641 | G34: =VLOOKUP($A34,'YTD Raw Data'!$B:$Q,10,FALSE) -> 86.720168 | H34: =VLOOKUP($A34,'YTD Raw Data'!$B:$Q,11,FALSE) -> 4.6506301 | I34: =VLOOKUP($A34,'YTD Raw Data'!$B:$Q,12,FALSE) -> 2.7948755 | J34: =VLOOKUP($A34,'YTD Raw Data'!$B:$Q,13,FALSE) -> 7.575485 | K34: =VLOOKUP($A34,'YTD Raw Data'!$B:$Q,14,FALSE) -> 5.8515005 | L34: =VLOOKUP($A34,'YTD Raw Data'!$B:$Q,15,FALSE) -> -1.6025812 | M34: =VLOOKUP($A34,'YTD Raw Data'!$B:$Q,16,FALSE) -> 2.9735188
A35: Chesapeake/Suffolk, VA | B35: =VLOOKUP($A35,'YTD Raw Data'!$B:$Q,5,FALSE) -> 74.795242 | C35: =VLOOKUP($A35,'YTD Raw Data'!$B:$Q,6,FALSE) -> 71.410828 | D35: =VLOOKUP($A35,'YTD Raw Data'!$B:$Q,7,FALSE) -> 108.57763 | E35: =VLOOKUP($A35,'YTD Raw Data'!$B:$Q,8,FALSE) -> 104.60471 | F35: =VLOOKUP($A35,'YTD Raw Data'!$B:$Q,9,FALSE) -> 81.210901 | G35: =VLOOKUP($A35,'YTD Raw Data'!$B:$Q,10,FALSE) -> 74.699088 | H35: =VLOOKUP($A35,'YTD Raw Data'!$B:$Q,11,FALSE) -> 4.7393571 | I35: =VLOOKUP($A35,'YTD Raw Data'!$B:$Q,12,FALSE) -> 3.7980331 | J35: =VLOOKUP($A35,'YTD Raw Data'!$B:$Q,13,FALSE) -> 8.7173925 | K35: =VLOOKUP($A35,'YTD Raw Data'!$B:$Q,14,FALSE) -> 8.7304404 | L35: =VLOOKUP($A35,'YTD Raw Data'!$B:$Q,15,FALSE) -> 0.012001654 | M35: =VLOOKUP($A35,'YTD Raw Data'!$B:$Q,16,FALSE) -> 4.7519276
A36: Newport News/Hampton, VA | B36: =VLOOKUP($A36,'YTD Raw Data'!$B:$Q,5,FALSE) -> 68.469332 | C36: =VLOOKUP($A36,'YTD Raw Data'!$B:$Q,6,FALSE) -> 66.709198 | D36: =VLOOKUP($A36,'YTD Raw Data'!$B:$Q,7,FALSE) -> 97.8461 | E36: =VLOOKUP($A36,'YTD Raw Data'!$B:$Q,8,FALSE) -> 96.314155 | F36: =VLOOKUP($A36,'YTD Raw Data'!$B:$Q,9,FALSE) -> 66.994571 | G36: =VLOOKUP($A36,'YTD Raw Data'!$B:$Q,10,FALSE) -> 64.250401 | H36: =VLOOKUP($A36,'YTD Raw Data'!$B:$Q,11,FALSE) -> 2.6385174 | I36: =VLOOKUP($A36,'YTD Raw Data'!$B:$Q,12,FALSE) -> 1.5905712 | J36: =VLOOKUP($A36,'YTD Raw Data'!$B:$Q,13,FALSE) -> 4.2710561 | K36: =VLOOKUP($A36,'YTD Raw Data'!$B:$Q,14,FALSE) -> 4.053451 | L36: =VLOOKUP($A36,'YTD Raw Data'!$B:$Q,15,FALSE) -> -0.20869179 | M36: =VLOOKUP($A36,'YTD Raw Data'!$B:$Q,16,FALSE) -> 2.4243192
A37: Norfolk/Portsmouth, VA | B37: =VLOOKUP($A37,'YTD Raw Data'!$B:$Q,5,FALSE) -> 70.844298 | C37: =VLOOKUP($A37,'YTD Raw Data'!$B:$Q,6,FALSE) -> 68.083883 | D37: =VLOOKUP($A37,'YTD Raw Data'!$B:$Q,7,FALSE) -> 131.70121 | E37: =VLOOKUP($A37,'YTD Raw Data'!$B:$Q,8,FALSE) -> 126.01512 | F37: =VLOOKUP($A37,'YTD Raw Data'!$B:$Q,9,FALSE) -> 93.3028 | G37: =VLOOKUP($A37,'YTD Raw Data'!$B:$Q,10,FALSE) -> 85.795989 | H37: =VLOOKUP($A37,'YTD Raw Data'!$B:$Q,11,FALSE) -> 4.0544327 | I37: =VLOOKUP($A37,'YTD Raw Data'!$B:$Q,12,FALSE) -> 4.5122277 | J37: =VLOOKUP($A37,'YTD Raw Data'!$B:$Q,13,FALSE) -> 8.7496057 | K37: =VLOOKUP($A37,'YTD Raw Data'!$B:$Q,14,FALSE) -> 10.124431 | L37: =VLOOKUP($A37,'YTD Raw Data'!$B:$Q,15,FALSE) -> 1.2642116 | M37: =VLOOKUP($A37,'YTD Raw Data'!$B:$Q,16,FALSE) -> 5.3699009
A38: Virginia Beach, VA | B38: =VLOOKUP($A38,'YTD Raw Data'!$B:$Q,5,FALSE) -> 67.203948 | C38: =VLOOKUP($A38,'YTD Raw Data'!$B:$Q,6,FALSE) -> 64.253521 | D38: =VLOOKUP($A38,'YTD Raw Data'!$B:$Q,7,FALSE) -> 179.88714 | E38: =VLOOKUP($A38,'YTD Raw Data'!$B:$Q,8,FALSE) -> 175.49267 | F38: =VLOOKUP($A38,'YTD Raw Data'!$B:$Q,9,FALSE) -> 120.89126 | G38: =VLOOKUP($A38,'YTD Raw Data'!$B:$Q,10,FALSE) -> 112.76022 | H38: =VLOOKUP($A38,'YTD Raw Data'!$B:$Q,11,FALSE) -> 4.5918534 | I38: =VLOOKUP($A38,'YTD Raw Data'!$B:$Q,12,FALSE) -> 2.5040754 | J38: =VLOOKUP($A38,'YTD Raw Data'!$B:$Q,13,FALSE) -> 7.2109122 | K38: =VLOOKUP($A38,'YTD Raw Data'!$B:$Q,14,FALSE) -> 7.855439 | L38: =VLOOKUP($A38,'YTD Raw Data'!$B:$Q,15,FALSE) -> 0.60117648 | M38: =VLOOKUP($A38,'YTD Raw Data'!$B:$Q,16,FALSE) -> 5.220635
... A58: Petersburg/Chester, VA | B58: =VLOOKUP($A58,'YTD Raw Data'!$B:$Q,5,FALSE) -> 66.000793 | C58: =VLOOKUP($A58,'YTD Raw Data'!$B:$Q,6,FALSE) -> 66.279749 | D58: =VLOOKUP($A58,'YTD Raw Data'!$B:$Q,7,FALSE) -> 99.882497 | E58: =VLOOKUP($A58,'YTD Raw Data'!$B:$Q,8,FALSE) -> 97.380541 | F58: =VLOOKUP($A58,'YTD Raw Data'!$B:$Q,9,FALSE) -> 65.92324 | G58: =VLOOKUP($A58,'YTD Raw Data'!$B:$Q,10,FALSE) -> 64.543578 | H58: =VLOOKUP($A58,'YTD Raw Data'!$B:$Q,11,FALSE) -> -0.4208769 | I58: =VLOOKUP($A58,'YTD Raw Data'!$B:$Q,12,FALSE) -> 2.5692573 | J58: =VLOOKUP($A58,'YTD Raw Data'!$B:$Q,13,FALSE) -> 2.137567 | K58: =VLOOKUP($A58,'YTD Raw Data'!$B:$Q,14,FALSE) -> 10.574711 | L58: =VLOOKUP($A58,'YTD Raw Data'!$B:$Q,15,FALSE) -> 8.2605692 | M58: =VLOOKUP($A58,'YTD Raw Data'!$B:$Q,16,FALSE) -> 7.8049255
A59: SOURCE: COSTAR REALTY INFORMATION, INC. REPUBLICATION OR OTHER RE-USE OF THIS DATA WITHOUT THE EXPRESS WRITTEN PERMISSION OF COSTAR IS STRICTLY PROHIBITED. ANY REDISTRIBUTION OR REPUBLICATION OF THIS DATA BY PARTIES OTHER THAN VTC IS STRICTLY PROHIBITED.

Sheet Current month raw data
A1: September 2026 Monthly Report | C1: Update month here
C6: Currency | F6: Current Month - September 2026 vs September 2025
F7: Occ % | H7: ADR | J7: RevPAR | L7: Percent Change from September 2025
C8: ISO Code | D8: Rate | F8: 2026 | G8: 2025 | H8: 2026 | I8: 2025 | J8: 2026 | K8: 2025 | L8: Occ | M8: ADR | N8: RevPAR | O8: Room Rev | P8: Room Avail | Q8: Room Sold
A9: United States | B9: United States | C9: USD | D9: 1 | F9: 66.866634 | G9: 63.41398 | H9: 171.68612 | I9: 163.09067 | J9: 114.80073 | K9: 103.42228 | L9: 5.4446253 | M9: 5.2703499 | N9: 11.001926 | O9: 11.36225 | P9: 0.32461025 | Q9: 5.7869093
A11: Virginia | B11: Virginia | C11: USD | D11: 1 | F11: 67.826199 | G11: 63.791966 | H11: 145.468 | I11: 138.50112 | J11: 98.665415 | K11: 88.352589 | L11: 6.3240461 | M11: 5.0301953 | N11: 11.672353 | O11: 12.058734 | P11: 0.34599533 | Q11: 6.6919223
A13: Markets
A14: Norfolk-Virginia Beach, VA | B14: Norfolk-Virginia Beach, VA | C14: USD | D14: 1 | F14: 68.556857 | G14: 63.446265 | H14: 137.51017 | I14: 126.35724 | J14: 94.272653 | K14: 80.168951 | L14: 8.0549921 | M14: 8.826508 | N14: 17.592475 | O14: 17.855254 | P14: 0.22346656 | Q14: 8.2964588
A15: Richmond-Petersburg, VA | B15: Richmond - Petersburg, VA | C15: USD | D15: 1 | F15: 65.533308 | G15: 64.903531 | H15: 115.92404 | I15: 114.40012 | J15: 75.968859 | K15: 74.249719 | L15: 0.97032863 | M15: 1.3320951 | N15: 2.3153494 | O15: 4.6859593 | P15: 2.3169641 | Q15: 3.3097749
A16: Virginia Area | B16: Virginia Area | C16: USD | D16: 1 | F16: 61.609036 | G16: 58.815425 | H16: 133.81063 | I16: 133.95533 | J16: 82.439438 | K16: 78.786397 | L16: 4.7497934 | M16: -0.10802394 | N16: 4.6366385 | O16: 5.784653 | P16: 1.0971439 | Q16: 5.8990493
A17: Washington, DC | B17: Washington, DC | C17: USD | D17: 1 | F17: 73.281303 | G17: 66.859588 | H17: 209.01824 | I17: 194.02272 | J17: 153.17129 | K17: 129.72279 | L17: 9.6047774 | M17: 7.7287458 | N17: 18.075852 | O17: 18.085145 | P17: 0.0078707793 | Q17: 9.6134042
A19: Tracts
A20: Arlington, VA | B20: Arlington, VA | C20: USD | D20: 1 | F20: 73.746723 | G20: 69.277285 | H20: 232.84526 | I20: 212.02751 | J20: 171.71575 | K20: 146.8869 | L20: 6.4515203 | M20: 9.8184196 | N20: 16.903377 | O20: 10.700974 | P20: -5.3055811 | Q20: 0.80364857
A21: Suburban Virginia Area | B21: Suburban Virginia Area | C21: USD | D21: 1 | F21: 74.002391 | G21: 68.15634 | H21: 176.13061 | I21: 162.6393 | J21: 130.34086 | K21: 110.84899 | L21: 8.5774143 | M21: 8.2952325 | N21: 17.584163 | O21: 17.278204 | P21: -0.26020491 | Q21: 8.2948906
A22: Alexandria, VA | B22: Alexandria, VA | C22: USD | D22: 1 | F22: 72.898988 | G22: 66.465057 | H22: 175.286 | I22: 163.27295 | J22: 127.78172 | K22: 108.51946 | L22: 9.6801703 | M22: 7.357652 | N22: 17.750055 | O22: 17.914091 | P22: 0.1393081 | Q22: 9.8329636
A23: Fairfax/Tysons Corner, VA | B23: Fairfax/Tysons Corner, VA | C23: USD | D23: 1 | F23: 73.753997 | G23: 70.260025 | H23: 183.2267 | I23: 171.32439 | J23: 135.13701 | K23: 120.37256 | L23: 4.9729149 | M23: 6.9472397 | N23: 12.265635 | O23: 12.265635 | P23: 0 | Q23: 4.9729149
A24: I-95 Fredericksburg, VA | B24: I-95 Fredericksburg, VA | C24: USD | D24: 1 | F24: 69.902663 | G24: 60.81535 | H24: 107.46192 | I24: 101.31957 | J24: 75.118747 | K24: 61.617852 | L24: 14.942464 | M24: 6.0623568 | N24: 21.910687 | O24: 21.222004 | P24: -0.56490792 | Q24: 14.293145
A25: Dulles Airport Area, VA | B25: Dulles Airport Area, VA | C25: USD | D25: 1 | F25: 77.826501 | G25: 71.820024 | H25: 154.38387 | I25: 141.54928 | J25: 120.15156 | K25: 101.66073 | L25: 8.363234 | M25: 9.0672187 | N25: 18.188765 | O25: 18.336726 | P25: 0.12519002 | Q25: 8.498894
A26: Williamsburg, VA | B26: Williamsburg, VA | C26: USD | D26: 1 | F26: 52.408356 | G26: 49.296376 | H26: 141.15445 | I26: 127.98379 | J26: 73.976725 | K26: 63.091372 | L26: 6.3127959 | M26: 10.290876 | N26: 17.253314 | O26: 10.36656 | P26: -5.8733985 | Q26: 0.068621817
A27: Virginia Beach, VA | B27: Virginia Beach, VA | C27: USD | D27: 1 | F27: 72.886657 | G27: 64.429694 | H27: 172.78917 | I27: 153.57207 | J27: 125.94025 | K27: 98.946016 | L27: 13.125879 | M27: 12.513405 | N27: 27.281778 | O27: 27.441755 | P27: 0.12568735 | Q27: 13.268064
A28: Norfolk/Portsmouth, VA | B28: Norfolk/Portsmouth, VA | C28: USD | D28: 1 | F28: 74.025485 | G28: 66.660742 | H28: 135.17556 | I28: 126.1686 | J28: 100.06437 | K28: 84.104926 | L28: 11.048096 | M28: 7.1388287 | N28: 18.975629 | O28: 17.833666 | P28: -0.95982936 | Q28: 9.9822238
A29: Newport News/Hampton, VA | B29: Newport News/Hampton, VA | C29: USD | D29: 1 | F29: 67.200932 | G29: 68.448501 | H29: 97.066905 | I29: 98.973778 | J29: 65.229865 | K29: 67.746067 | L29: -1.8226378 | M29: -1.9266451 | N29: -3.7141672 | O29: -0.26891136 | P29: 3.5781544 | Q29: 1.6902998
