BEGIN:VCALENDAR
VERSION:2.0
PRODID:-//Virginia Tourism Corporation - ECPv6.15.20//NONSGML v1.0//EN
CALSCALE:GREGORIAN
METHOD:PUBLISH
X-WR-CALNAME:Virginia Tourism Corporation
X-ORIGINAL-URL:https://vatc.org
X-WR-CALDESC:Events for Virginia Tourism Corporation
REFRESH-INTERVAL;VALUE=DURATION:PT1H
X-Robots-Tag:noindex
X-PUBLISHED-TTL:PT1H
BEGIN:VTIMEZONE
TZID:America/New_York
BEGIN:DAYLIGHT
TZOFFSETFROM:-0500
TZOFFSETTO:-0400
TZNAME:EDT
DTSTART:20250309T070000
END:DAYLIGHT
BEGIN:STANDARD
TZOFFSETFROM:-0400
TZOFFSETTO:-0500
TZNAME:EST
DTSTART:20251102T060000
END:STANDARD
BEGIN:DAYLIGHT
TZOFFSETFROM:-0500
TZOFFSETTO:-0400
TZNAME:EDT
DTSTART:20260308T070000
END:DAYLIGHT
BEGIN:STANDARD
TZOFFSETFROM:-0400
TZOFFSETTO:-0500
TZNAME:EST
DTSTART:20261101T060000
END:STANDARD
BEGIN:DAYLIGHT
TZOFFSETFROM:-0500
TZOFFSETTO:-0400
TZNAME:EDT
DTSTART:20270314T070000
END:DAYLIGHT
BEGIN:STANDARD
TZOFFSETFROM:-0400
TZOFFSETTO:-0500
TZNAME:EST
DTSTART:20271107T060000
END:STANDARD
END:VTIMEZONE
BEGIN:VTIMEZONE
TZID:America/Los_Angeles
BEGIN:DAYLIGHT
TZOFFSETFROM:-0800
TZOFFSETTO:-0700
TZNAME:PDT
DTSTART:20250309T100000
END:DAYLIGHT
BEGIN:STANDARD
TZOFFSETFROM:-0700
TZOFFSETTO:-0800
TZNAME:PST
DTSTART:20251102T090000
END:STANDARD
BEGIN:DAYLIGHT
TZOFFSETFROM:-0800
TZOFFSETTO:-0700
TZNAME:PDT
DTSTART:20260308T100000
END:DAYLIGHT
BEGIN:STANDARD
TZOFFSETFROM:-0700
TZOFFSETTO:-0800
TZNAME:PST
DTSTART:20261101T090000
END:STANDARD
BEGIN:DAYLIGHT
TZOFFSETFROM:-0800
TZOFFSETTO:-0700
TZNAME:PDT
DTSTART:20270314T100000
END:DAYLIGHT
BEGIN:STANDARD
TZOFFSETFROM:-0700
TZOFFSETTO:-0800
TZNAME:PST
DTSTART:20271107T090000
END:STANDARD
END:VTIMEZONE
BEGIN:VTIMEZONE
TZID:UTC
BEGIN:STANDARD
TZOFFSETFROM:+0000
TZOFFSETTO:+0000
TZNAME:UTC
DTSTART:20260101T000000
END:STANDARD
END:VTIMEZONE
BEGIN:VEVENT
DTSTART;VALUE=DATE:20260621
DTEND;VALUE=DATE:20260625
DTSTAMP:20260425T000403
CREATED:20250328T181333Z
LAST-MODIFIED:20260417T193112Z
UID:23220-1782000000-1782345599@vatc.org
SUMMARY:Pennsylvania Bus Association Annual
DESCRIPTION:State Motorcoach conference. Opportunity for registered delegates to do business through one-on-one Motorcoach/Tour Operator appointments\, educational and networking sessions\, to increase group tour business. VTC is sponsoring an educational session. \nContact Joni Johnson for sales lead report after the conference. \n 
URL:https://vatc.org/event/pennsylvania-bus-association-annual/
LOCATION:Poconos\, PA
CATEGORIES:Groups, Sports, Meetings
END:VEVENT
BEGIN:VEVENT
DTSTART;TZID=America/New_York:20260809T080000
DTEND;TZID=America/New_York:20260811T170000
DTSTAMP:20260425T000403
CREATED:20251007T122114Z
LAST-MODIFIED:20251007T122114Z
UID:24293-1786262400-1786467600@vatc.org
SUMMARY:VMA/NCMA Regional Conference
DESCRIPTION:Virginia and North Carolina state motorcoach associations join together for their annual conference. Opportunity for one-on-one Tour Operator appointments\, educational and networking sessions\, to increase group tour business. \nContact Joni Johnson for sales lead report after the conference.
URL:https://vatc.org/event/vma-ncma-regional-conference/
LOCATION:Glen Allen\, VA
CATEGORIES:Groups, Sports, Meetings
END:VEVENT
BEGIN:VEVENT
DTSTART;TZID=America/New_York:20260821T080000
DTEND;TZID=America/New_York:20260825T170000
DTSTAMP:20260425T000403
CREATED:20251007T122329Z
LAST-MODIFIED:20251007T122329Z
UID:24296-1787299200-1787677200@vatc.org
SUMMARY:SYTA Annual Conference
DESCRIPTION:Student and Youth Travel Association is the leading student travel professional trade membership organization. Opportunity for one-on-one appointments with student tour operators that plan educational tours and performing (choral\, band etc.) group travel. Educational and networking sessions. \nContact Joni Johnson for lead report following this conference.
URL:https://vatc.org/event/syta-annual-conference-2/
LOCATION:Pittsburg\, PA
CATEGORIES:Groups, Sports, Meetings
END:VEVENT
BEGIN:VEVENT
DTSTART;VALUE=DATE:20261115
DTEND;VALUE=DATE:20261119
DTSTAMP:20260425T000403
CREATED:20180628T194038Z
LAST-MODIFIED:20260417T192926Z
UID:4734-1794700800-1795046399@vatc.org
SUMMARY:National Tour Association Travel Exchange
DESCRIPTION:Travel Exchange is National Tour Association’s annual convention connecting tour buyers with the hottest travel product from every U.S. state\, Canadian province and 30+ countries. Opportunity for registered delegates to do business through one-on-one Tour Operator appointments\, educational and networking sessions\, to increase group tour business. \nContact Joni Johnson for sales lead report after the conference.
URL:https://vatc.org/event/national-tour-association-travel-exchange/
LOCATION:Tulsa\, OK
CATEGORIES:Groups, Sports, Meetings
END:VEVENT
BEGIN:VEVENT
DTSTART;VALUE=DATE:20270206
DTEND;VALUE=DATE:20270210
DTSTAMP:20260425T000403
CREATED:20170616T173447Z
LAST-MODIFIED:20260417T192853Z
UID:1691-1801872000-1802217599@vatc.org
SUMMARY:ABA Annual Marketplace
DESCRIPTION:American Bus Association is the largest Tour & Travel professional trade membership organization in USA. Marketplace provides opportunity for one-on-one appointments with Tour Operators\, educational and networking sessions\, to increase group tour business. VTC provides Virginia registered delegates with partnership opportunity. \nContact Joni Johnson for partnership information and sales lead report after the conference.
URL:https://vatc.org/event/aba-annual-marketplace/
LOCATION:Calgary\, Canada\, Canada
CATEGORIES:Groups, Sports, Meetings
END:VEVENT
END:VCALENDAR